BEGIN:VCALENDAR
VERSION:2.0
PRODID:-//North Bay Country Dance Society - ECPv5.0.3.1//NONSGML v1.0//EN
CALSCALE:GREGORIAN
METHOD:PUBLISH
X-WR-CALNAME:North Bay Country Dance Society
X-ORIGINAL-URL:https://nbcds.org
X-WR-CALDESC:Events for North Bay Country Dance Society
BEGIN:VTIMEZONE
TZID:America/Los_Angeles
BEGIN:DAYLIGHT
TZOFFSETFROM:-0800
TZOFFSETTO:-0700
TZNAME:PDT
DTSTART:20200308T100000
END:DAYLIGHT
BEGIN:STANDARD
TZOFFSETFROM:-0700
TZOFFSETTO:-0800
TZNAME:PST
DTSTART:20201101T090000
END:STANDARD
END:VTIMEZONE
BEGIN:VEVENT
DTSTART;TZID=America/Los_Angeles:20200614T140000
DTEND;TZID=America/Los_Angeles:20200614T163000
DTSTAMP:20260421T085522
CREATED:20200228T235024Z
LAST-MODIFIED:20200428T150604Z
UID:4877-1592143200-1592152200@nbcds.org
SUMMARY:Special post-Mad Robin Ball English dance (Sebastopol) - cancelled
DESCRIPTION:Caller: Alan Winston\nBand: Charlie Hancock (piano)\, Eden MacAdam-Somer (violin)\, Larry Unger (guitar) \nEnjoy one more session with the wonderful staff from our Mad Robin Ball!  This dance is open to all. \nCome early for new dancer instruction at 1:45\, no partner necessary. Wear smooth-soled\, low-heeled shoes. Admission $12 general\, $10 members and affiliates\, $5 young adult 19-30 and financial hardship\, $3 youth 6-18. Fragrance free event\, no perfume or scented products please. Questions\, call Kathy 707-829-0168 or kwoeltjen@yahoo.com. \n
URL:https://nbcds.org/event/special-post-mad-robin-ball-english-dance/
LOCATION:Wischemann Hall\, 465 Morris St.\, Sebastopol\, CA\, United States
ORGANIZER;CN="Kathy%20Woeltjen":MAILTO:kwoeltjen@yahoo.com
GEO:38.4086229;-122.8208861
X-APPLE-STRUCTURED-LOCATION;VALUE=URI;X-ADDRESS=Wischemann Hall 465 Morris St. Sebastopol CA United States;X-APPLE-RADIUS=500;X-TITLE=465 Morris St.:geo:-122.8208861,38.4086229
END:VEVENT
END:VCALENDAR