BEGIN:VCALENDAR
VERSION:2.0
PRODID:-//North Bay Country Dance Society - ECPv5.0.3.1//NONSGML v1.0//EN
CALSCALE:GREGORIAN
METHOD:PUBLISH
X-WR-CALNAME:North Bay Country Dance Society
X-ORIGINAL-URL:https://nbcds.org
X-WR-CALDESC:Events for North Bay Country Dance Society
BEGIN:VTIMEZONE
TZID:America/Los_Angeles
BEGIN:DAYLIGHT
TZOFFSETFROM:-0800
TZOFFSETTO:-0700
TZNAME:PDT
DTSTART:20200308T100000
END:DAYLIGHT
BEGIN:STANDARD
TZOFFSETFROM:-0700
TZOFFSETTO:-0800
TZNAME:PST
DTSTART:20201101T090000
END:STANDARD
END:VTIMEZONE
BEGIN:VEVENT
DTSTART;TZID=America/Los_Angeles:20200613T140000
DTEND;TZID=America/Los_Angeles:20200613T230000
DTSTAMP:20260421T072137
CREATED:20200228T234650Z
LAST-MODIFIED:20220416T012147Z
UID:4875-1592056800-1592089200@nbcds.org
SUMMARY:Mad Robin Ball 2020 (English) - Cancelled
DESCRIPTION:Caller: Alan Winston\nBand: Charlie Hancock (piano)\, Eden MacAdam-Somer (violin)\, Larry Unger (guitar) \nThe Mad Robin Ball is the North Bay’s annual celebration of the delights of English country dancing.  Pre-registration is required for the ball.  Registration and program information will be at the ball’s website:\nhttp://madrobin.org/ \n
URL:https://nbcds.org/event/mad-robin-ball-2020/
LOCATION:Hermann Sons Hall\, 860 Western Ave\, Petaluma\, United States
ORGANIZER;CN="Kathy%20Woeltjen":MAILTO:kwoeltjen@yahoo.com
GEO:38.2304124;-122.6525292
X-APPLE-STRUCTURED-LOCATION;VALUE=URI;X-ADDRESS=Hermann Sons Hall 860 Western Ave Petaluma United States;X-APPLE-RADIUS=500;X-TITLE=860 Western Ave:geo:-122.6525292,38.2304124
END:VEVENT
BEGIN:VEVENT
DTSTART;TZID=America/Los_Angeles:20200613T190000
DTEND;TZID=America/Los_Angeles:20200613T220000
DTSTAMP:20260421T072137
CREATED:20200204T090211Z
LAST-MODIFIED:20200418T150126Z
UID:4743-1592074800-1592085600@nbcds.org
SUMMARY:San Rafael Contra Dance - CANCELLED
DESCRIPTION:FREE WALTZ WORKSHOP!  Waltz basics and beginning rotary waltzing\, begins promptly at 5:00\, ends at 6:00\, followed by a potluck and contra dance at 7:00.  See details. \n
URL:https://nbcds.org/event/san-rafael-contra-dance-28/
LOCATION:Unitarian Universalist Congregation of Marin\, 240 Channing Way\, San Rafael\, CA 94903
ORGANIZER;CN="Susan%20Amato":MAILTO:skamato@hotmail.com
GEO:38.0077558;-122.5371218
X-APPLE-STRUCTURED-LOCATION;VALUE=URI;X-ADDRESS=Unitarian Universalist Congregation of Marin 240 Channing Way San Rafael CA 94903;X-APPLE-RADIUS=500;X-TITLE=240 Channing Way\, San Rafael\, CA 94903:geo:-122.5371218,38.0077558
END:VEVENT
BEGIN:VEVENT
DTSTART;TZID=America/Los_Angeles:20200613T190000
DTEND;TZID=America/Los_Angeles:20200613T200000
DTSTAMP:20260421T072137
CREATED:20200525T203218Z
LAST-MODIFIED:20200608T222114Z
UID:5062-1592074800-1592078400@nbcds.org
SUMMARY:Saturday Evening Waltz Party with Countercurrent on Zoom
DESCRIPTION:Everyone is welcome! Zoom link is below. \n \nCountercurrent is a duo based in Western Washington that has been delighting contra dancers and concert audiences for nigh on a decade. Composed of Alex Sturbaum (guitar\, vocals) and Brian Lindsay (fiddle\, feet\, vocals)\, we incorporate Irish\, American\, French-Canadian\, and pop influences into our music to create a high-energy and dynamic sound! \nPlease join us and feel free to share this event with your friends.\nIt’s been wonderful seeing old and new friends each week at these waltz parties. \nHere’s how it works:\nJoin in by Zoom at 7 pm PST (link is below) \nWe can see each other if you turn your video/camera on. Please stay muted during the music portions. \n7-7:25 PST They will play beautiful waltzes and tunes for our dancing and listening pleasure. \n7:25- 7:35 PST We will have a 10 minute break- please feel free to unmute yourself\, say your name and where you are from so we can get to know each other. \n7:35-8 PST  25 more minutes of wonderful music \nTip Jar: PayPal to lindsaybriank@gmail.com \nTopic: Saturday Evening Waltz Party With Countercurrent\nTime: Jun 13\, 2020 07:00 PM Pacific Time (US and Canada) \nJoin Zoom Meeting\nhttps://us02web.zoom.us/j/88643591441?pwd=NTArWGo2SXdjY0JhRXJWNDNRMzRydz09 \nMeeting ID: 886 4359 1441\nPassword: 176946\nOne tap mobile\n+16699009128\,\,88643591441#\,\,1#\,176946# US (San Jose)\n+13462487799\,\,88643591441#\,\,1#\,176946# US (Houston) \nDial by your location\n+1 669 900 9128 US (San Jose)\n+1 346 248 7799 US (Houston)\n+1 253 215 8782 US (Tacoma)\n+1 312 626 6799 US (Chicago)\n+1 646 558 8656 US (New York)\n+1 301 715 8592 US (Germantown)\nMeeting ID: 886 4359 1441\nPassword: 176946\nFind your local number: https://us02web.zoom.us/u/kc96KU6aZ0 \n
URL:https://nbcds.org/event/saturday-evening-waltz-party-with-countercurrent/
CATEGORIES:Contra Dances
ATTACH;FMTTYPE=image/png:https://nbcds.org/wp-content/uploads/2020/05/894F91E0-7104-4BB6-9BC3-43541302A152.png
ORGANIZER;CN="Sarah%20Lee":MAILTO:sarah@nbcds.org
END:VEVENT
END:VCALENDAR