BEGIN:VCALENDAR
VERSION:2.0
PRODID:-//North Bay Country Dance Society - ECPv5.0.3.1//NONSGML v1.0//EN
CALSCALE:GREGORIAN
METHOD:PUBLISH
X-WR-CALNAME:North Bay Country Dance Society
X-ORIGINAL-URL:https://nbcds.org
X-WR-CALDESC:Events for North Bay Country Dance Society
BEGIN:VTIMEZONE
TZID:America/Los_Angeles
BEGIN:DAYLIGHT
TZOFFSETFROM:-0800
TZOFFSETTO:-0700
TZNAME:PDT
DTSTART:20200308T100000
END:DAYLIGHT
BEGIN:STANDARD
TZOFFSETFROM:-0700
TZOFFSETTO:-0800
TZNAME:PST
DTSTART:20201101T090000
END:STANDARD
END:VTIMEZONE
BEGIN:VEVENT
DTSTART;TZID=America/Los_Angeles:20200607T140000
DTEND;TZID=America/Los_Angeles:20200607T163000
DTSTAMP:20260420T213809
CREATED:20190902T021357Z
LAST-MODIFIED:20200418T150829Z
UID:3962-1591538400-1591547400@nbcds.org
SUMMARY:Sebastopol English Country Dance
DESCRIPTION:Mad Robin Ball rehearsal dance\nCaller: Gary Thomas\nBand: Rebecca King (piano)\, Jon Berger (violin) \nThough this session is primarily for the benefit of dancers planning to go to the Mad Robin Ball in June\, anyone is welcome to attend.  Some of the material will be more complex than is usual for our series\, though\, so if you’re very new to English dancing you might wish to wait for the dances on the 14th or the 21st.\nNo partner necessary. Wear smooth-soled\, low-heeled shoes. Admission $12 general\, $10 members and affiliates\, $5 young adult 19-30 and financial hardship\, $3 youth 6-18. Fragrance free event\, no perfume or scented products please. Questions\, call Kathy 707-829-0168 or kwoeltjen@yahoo.com. \n
URL:https://nbcds.org/event/sebastopol-english-country-dance-53-2020-01-05-2020-06-07/
LOCATION:Wischemann Hall\, 465 Morris St.\, Sebastopol\, CA\, United States
ORGANIZER;CN="Kathy%20Woeltjen":MAILTO:kwoeltjen@yahoo.com
GEO:38.4086229;-122.8208861
X-APPLE-STRUCTURED-LOCATION;VALUE=URI;X-ADDRESS=Wischemann Hall 465 Morris St. Sebastopol CA United States;X-APPLE-RADIUS=500;X-TITLE=465 Morris St.:geo:-122.8208861,38.4086229
END:VEVENT
BEGIN:VEVENT
DTSTART;TZID=America/Los_Angeles:20200607T183000
DTEND;TZID=America/Los_Angeles:20200607T213000
DTSTAMP:20260420T213809
CREATED:20200209T210612Z
LAST-MODIFIED:20200418T150212Z
UID:4767-1591554600-1591565400@nbcds.org
SUMMARY:PETALUMA CONTRA DANCE CANCELLED
DESCRIPTION:Caller: Yoyo Zhou \nBand: Countercurrent (WA)\, Brian Lindsay on fiddle\, feet\, and vocals\, and Alex Sturbaum on guitar and vocals. \nDance Managers: Tom Schwartz & Linda Howard \nSound: Eric Black \nBeginner’s Lesson at 6:00 p.m. \nPrices: $10 NBCDS/CDSS-affiliate members; $12 non-members; $5 under 30\, FT students w/ID\, and financial hardship; $2 ages 6-17 \nPlease note the dance is in the St. John’s Social Hall on C St. between 5th and 6th Streets\, adjacent to the parking lot. \nAlso\, please note that all of our dances are fragrance free. \n
URL:https://nbcds.org/event/petaluma-contra-dance-37/
LOCATION:St. John’s Episcopal Church – Petaluma\, 530 C Street\, Petaluma\, 94952\, United States
GEO:38.231247;-122.6393062
X-APPLE-STRUCTURED-LOCATION;VALUE=URI;X-ADDRESS=St. John’s Episcopal Church – Petaluma 530 C Street Petaluma 94952 United States;X-APPLE-RADIUS=500;X-TITLE=530 C Street:geo:-122.6393062,38.231247
END:VEVENT
END:VCALENDAR