BEGIN:VCALENDAR
VERSION:2.0
PRODID:-//North Bay Country Dance Society - ECPv5.0.3.1//NONSGML v1.0//EN
CALSCALE:GREGORIAN
METHOD:PUBLISH
X-WR-CALNAME:North Bay Country Dance Society
X-ORIGINAL-URL:https://nbcds.org
X-WR-CALDESC:Events for North Bay Country Dance Society
BEGIN:VTIMEZONE
TZID:America/Los_Angeles
BEGIN:DAYLIGHT
TZOFFSETFROM:-0800
TZOFFSETTO:-0700
TZNAME:PDT
DTSTART:20200308T100000
END:DAYLIGHT
BEGIN:STANDARD
TZOFFSETFROM:-0700
TZOFFSETTO:-0800
TZNAME:PST
DTSTART:20201101T090000
END:STANDARD
END:VTIMEZONE
BEGIN:VEVENT
DTSTART;TZID=America/Los_Angeles:20200606T190000
DTEND;TZID=America/Los_Angeles:20200606T200000
DTSTAMP:20260420T201100
CREATED:20200525T194906Z
LAST-MODIFIED:20200607T013513Z
UID:5056-1591470000-1591473600@nbcds.org
SUMMARY:Saturday Evening Waltz Party with Tea & Whisky on Zoom
DESCRIPTION:Everyone is welcome at this waltz concert on zoom! With Karin McQuade’s hypnotic vocals and raging fiddle\, and Andrae Raffield (of Contraforce fame) on electric guitar and beats\, this duo combines tradition with wild trance and electric sounds. Karin’s playful personality in song and music and Andre’s pulsing rhythm and melody make for a very dynamic combination! \nTopic: Saturday Evening Waltz Party with Tea and Whisky on Zoom\nTime: Jun 6\, 2020 07:00 PM Pacific Time (US and Canada) \nJoin Zoom Meeting\nhttps://us02web.zoom.us/j/84596962247?pwd=R2NGeWJnUFMzR1lxUmlrRTZrbENCQT09 \nMeeting ID: 845 9696 2247\nPassword: 001485\nOne tap mobile\n+16699009128\,\,84596962247#\,\,1#\,001485# US (San Jose)\n+13462487799\,\,84596962247#\,\,1#\,001485# US (Houston) \nDial by your location\n+1 669 900 9128 US (San Jose)\n+1 346 248 7799 US (Houston)\n+1 253 215 8782 US (Tacoma)\n+1 312 626 6799 US (Chicago)\n+1 646 558 8656 US (New York)\n+1 301 715 8592 US (Germantown)\nMeeting ID: 845 9696 2247\nPassword: 001485\nFind your local number: https://us02web.zoom.us/u/kdKI9xmBpq \n  \nFeel free to unmute and introduce yourself when we wait for the concert to begin. \nPlease do stay muted during the music portions. \n6:45-7 getting settled \n\n7-7:25 PST Music and dancing \n7:25- 7:35 PST\nBreak\nPlease feel free to unmute yourself\nSay your name and where you are from\nGive an appreciation to the musicians \n7:35-8 PST  25 more minutes of wonderful music \n
URL:https://nbcds.org/event/saturday-evening-waltz-party-with-tea-whisky/
CATEGORIES:Contra Dances,English Country Dance
ORGANIZER;CN="Sarah%20Lee":MAILTO:sarah@nbcds.org
END:VEVENT
END:VCALENDAR