BEGIN:VCALENDAR
VERSION:2.0
PRODID:-//North Bay Country Dance Society - ECPv5.0.3.1//NONSGML v1.0//EN
CALSCALE:GREGORIAN
METHOD:PUBLISH
X-WR-CALNAME:North Bay Country Dance Society
X-ORIGINAL-URL:https://nbcds.org
X-WR-CALDESC:Events for North Bay Country Dance Society
BEGIN:VTIMEZONE
TZID:America/Los_Angeles
BEGIN:DAYLIGHT
TZOFFSETFROM:-0800
TZOFFSETTO:-0700
TZNAME:PDT
DTSTART:20200308T100000
END:DAYLIGHT
BEGIN:STANDARD
TZOFFSETFROM:-0700
TZOFFSETTO:-0800
TZNAME:PST
DTSTART:20201101T090000
END:STANDARD
END:VTIMEZONE
BEGIN:VEVENT
DTSTART;TZID=America/Los_Angeles:20200531T140000
DTEND;TZID=America/Los_Angeles:20200531T163000
DTSTAMP:20260420T102751
CREATED:20191101T193822Z
LAST-MODIFIED:20200418T150448Z
UID:4136-1590933600-1590942600@nbcds.org
SUMMARY:Napa English Country Dance - cancelled
DESCRIPTION:
URL:https://nbcds.org/event/napa-english-country-dance-13/
LOCATION:Napa Senior Activity Center\, 1500 Jefferson St.\, Napa\, CA\, 94559\, United States
GEO:38.301518;-122.292813
X-APPLE-STRUCTURED-LOCATION;VALUE=URI;X-ADDRESS=Napa Senior Activity Center 1500 Jefferson St. Napa CA 94559 United States;X-APPLE-RADIUS=500;X-TITLE=1500 Jefferson St.:geo:-122.292813,38.301518
END:VEVENT
BEGIN:VEVENT
DTSTART;TZID=America/Los_Angeles:20200531T140000
DTEND;TZID=America/Los_Angeles:20200531T163000
DTSTAMP:20260420T102751
CREATED:20200228T233322Z
LAST-MODIFIED:20200418T150222Z
UID:4871-1590933600-1590942600@nbcds.org
SUMMARY:Special 5th Sunday Advanced English Country Dance - cancelled
DESCRIPTION:Caller: Kalia Kliban\, with recorded music \nThe 5th Sunday dances are for experienced dancers. Instruction will move quickly. We expect you to be comfortable with heys for 3 and 4\, single and double figure 8s\, and triple minor progression\, and to be able to maintain a sense of your own position and role within complex patterns.\nWear smooth-soled\, low-heeled shoes. Admission $12 general\, $10 members and affiliates\, $5 young adult 19-30 and financial hardship\, $3 youth 6-18. Fragrance free event\, no perfume or scented products please. Questions\, call Kathy 707-829-0168 or kwoeltjen@yahoo.com. \n
URL:https://nbcds.org/event/special-5th-sunday-advanced-english-country-dance-2/
LOCATION:Wischemann Hall\, 465 Morris St.\, Sebastopol\, CA\, United States
ORGANIZER;CN="Kathy%20Woeltjen":MAILTO:kwoeltjen@yahoo.com
GEO:38.4086229;-122.8208861
X-APPLE-STRUCTURED-LOCATION;VALUE=URI;X-ADDRESS=Wischemann Hall 465 Morris St. Sebastopol CA United States;X-APPLE-RADIUS=500;X-TITLE=465 Morris St.:geo:-122.8208861,38.4086229
END:VEVENT
END:VCALENDAR