BEGIN:VCALENDAR
VERSION:2.0
PRODID:-//North Bay Country Dance Society - ECPv5.0.3.1//NONSGML v1.0//EN
CALSCALE:GREGORIAN
METHOD:PUBLISH
X-WR-CALNAME:North Bay Country Dance Society
X-ORIGINAL-URL:https://nbcds.org
X-WR-CALDESC:Events for North Bay Country Dance Society
BEGIN:VTIMEZONE
TZID:America/Los_Angeles
BEGIN:DAYLIGHT
TZOFFSETFROM:-0800
TZOFFSETTO:-0700
TZNAME:PDT
DTSTART:20200308T100000
END:DAYLIGHT
BEGIN:STANDARD
TZOFFSETFROM:-0700
TZOFFSETTO:-0800
TZNAME:PST
DTSTART:20201101T090000
END:STANDARD
END:VTIMEZONE
BEGIN:VEVENT
DTSTART;TZID=America/Los_Angeles:20200530T190000
DTEND;TZID=America/Los_Angeles:20200530T200000
DTSTAMP:20260420T084513
CREATED:20200524T144208Z
LAST-MODIFIED:20200524T151358Z
UID:5050-1590865200-1590868800@nbcds.org
SUMMARY:Saturday Evening Waltz Party with Pete’s Posse on Zoom
DESCRIPTION:Performing for us together in person for one of the first times since SIP-Vermont’s own trad-roots power trio! Composed of acclaimed musician Pete Sutherland\, his talented protégé Oliver Scanlon and the uber-dynamic Tristan Henderson\, Pete’s Posse never fails to surprise and excite! Twin fiddles in tight\, wild harmony over high-powered guitar and pounding foot percussion with mandolin\, clawhammer banjo\, jaw harp\, rocking keyboards\, and soaring vocal harmonies adding color to the Posse’s sonic landscape. \nHere’s how it works:\nJoin by zoom (link is below) if we turn our videos on we can see each other and wave.\n7-7:25 PT music and dancing (please stay muted during the music portions)\n7:25-7:35 PT unmute\, introduce yourself and say where you’re from\, give appreciation to the musicians\n7:35-8 PT more music \nPlease share this event with friends you miss dancing with 🙂 \nTip Jar: \nPayPal link:\nhttps://www.paypal.com/cgi-bin/webscr?cmd=_s-xclick&hosted_button_id=B7HXPFMMQTBJG&source=url\nPete’s Posse \n66 Park St.\n \nBurlington VT 05401\n\n\nSaturday Evening Waltz Party with Pete’s Posse \nTime: May 30\, 2020 07:00 PM Pacific Time (US and Canada) \nhttps://us02web.zoom.us/j/88183550397?pwd=c1pCZ1htaTVMS1UxZ2s3MGVwZ1AvUT09 \nMeeting ID: 881 8355 0397\nPassword: 743270\nOne tap mobile\n+16699009128\,\,88183550397#\,\,1#\,743270# US (San Jose)\n+13462487799\,\,88183550397#\,\,1#\,743270# US (Houston) \nDial by your location\n+1 669 900 9128 US (San Jose)\n+1 346 248 7799 US (Houston)\n+1 253 215 8782 US (Tacoma)\n+1 301 715 8592 US (Germantown)\n+1 312 626 6799 US (Chicago)\n+1 646 558 8656 US (New York)\nMeeting ID: 881 8355 0397\nPassword: 743270\nFind your local number: https://us02web.zoom.us/u/kPzGPYr1 \n\n
URL:https://nbcds.org/event/saturday-evening-waltz-party-with-petes-posse-on-zoom/
CATEGORIES:Contra Dances
ORGANIZER;CN="Sarah%20Lee":MAILTO:sarah@nbcds.org
END:VEVENT
BEGIN:VEVENT
DTSTART;TZID=America/Los_Angeles:20200530T200000
DTEND;TZID=America/Los_Angeles:20200530T230000
DTSTAMP:20260420T084513
CREATED:20191122T041723Z
LAST-MODIFIED:20200418T150236Z
UID:4335-1590868800-1590879600@nbcds.org
SUMMARY:SANTA ROSA CONTRA DANCE - CANCELLED
DESCRIPTION:Caller: Lynn Ackerson \nBand:  \n***Topher Gayle (mandolin\, banjo\, percussion) \n***Jim Burke (guitar) \n***Kenny Blacklock (fiddle\, mandolin) \nSound: Carlo Calabi \nManager: Karen Frazier \nBeginner’s Lesson at 7:30pm \nPrices: $10 NBCDS/CDSS-affiliate members; $12 non-members; $5 under 30\, FT students w/ID\, and financial hardship; $2 ages 6-17 \n
URL:https://nbcds.org/event/santa-rosa-contra-dance-25/
LOCATION:Monroe Hall\, 1400 West College Ave.\, Santa Rosa\, CA\, United States
GEO:38.4448309;-122.7438472
X-APPLE-STRUCTURED-LOCATION;VALUE=URI;X-ADDRESS=Monroe Hall 1400 West College Ave. Santa Rosa CA United States;X-APPLE-RADIUS=500;X-TITLE=1400 West College Ave.:geo:-122.7438472,38.4448309
END:VEVENT
END:VCALENDAR