BEGIN:VCALENDAR
VERSION:2.0
PRODID:-//North Bay Country Dance Society - ECPv5.0.3.1//NONSGML v1.0//EN
CALSCALE:GREGORIAN
METHOD:PUBLISH
X-WR-CALNAME:North Bay Country Dance Society
X-ORIGINAL-URL:https://nbcds.org
X-WR-CALDESC:Events for North Bay Country Dance Society
BEGIN:VTIMEZONE
TZID:America/Los_Angeles
BEGIN:DAYLIGHT
TZOFFSETFROM:-0800
TZOFFSETTO:-0700
TZNAME:PDT
DTSTART:20180311T100000
END:DAYLIGHT
BEGIN:STANDARD
TZOFFSETFROM:-0700
TZOFFSETTO:-0800
TZNAME:PST
DTSTART:20181104T090000
END:STANDARD
END:VTIMEZONE
BEGIN:VEVENT
DTSTART;TZID=America/Los_Angeles:20180107T140000
DTEND;TZID=America/Los_Angeles:20180107T163000
DTSTAMP:20260421T183201
CREATED:20171205T215457Z
LAST-MODIFIED:20171205T215559Z
UID:1884-1515333600-1515342600@nbcds.org
SUMMARY:Sebastopol English Country Dance
DESCRIPTION:Caller: David Newitt \nBand: Rebecca King (piano)\, Christopher Jacoby (accordion)\, Maggie Moore (violin) \nCome early for new dancer instruction at 1:45\, no partner necessary.  Wear smooth-soled\, low-heeled shoes.  Admission $12 general\, $10 members and affiliates\, $5 young adult 19-30 and financial hardship\, $3 youth 6-18.  Fragrance free event\, no perfume or scented products please. Questions\, call Kathy 707-829-0168 or kwoeltjen@yahoo.com. \n
URL:https://nbcds.org/event/sebastopol-english-country-dance-29/
LOCATION:Wischemann Hall\, 465 Morris St.\, Sebastopol\, CA\, United States
CATEGORIES:English Country Dance
ORGANIZER;CN="Kathy%20Woeltjen":MAILTO:kwoeltjen@yahoo.com
GEO:38.4086229;-122.8208861
X-APPLE-STRUCTURED-LOCATION;VALUE=URI;X-ADDRESS=Wischemann Hall 465 Morris St. Sebastopol CA United States;X-APPLE-RADIUS=500;X-TITLE=465 Morris St.:geo:-122.8208861,38.4086229
END:VEVENT
BEGIN:VEVENT
DTSTART;TZID=America/Los_Angeles:20180107T183000
DTEND;TZID=America/Los_Angeles:20180107T213000
DTSTAMP:20260421T183201
CREATED:20171121T061018Z
LAST-MODIFIED:20180104T163321Z
UID:1814-1515349800-1515360600@nbcds.org
SUMMARY:Petaluma Contra Dance
DESCRIPTION:Caller: Eric Black \nBand:  Christopher Jacoby (mandolin\, accordion)\, Will Wheeler (fiddle)\, Josh Van Vliet (guitar) \nSound: Marty Brenneis \nBeginner’s Lesson at 6:00 p.m. \nPrices: $10 NBCDS/CDSS-affiliate members; $12 non-members; $5 under 30\, FT students w/ID\, and financial hardship; $2 ages 6-17 \nPlease note the dance is in the St. John’s Social Hall on C St. between 5th and 6th Streets by the parking lot. \n
URL:https://nbcds.org/event/petaluma-contra-dance-11/
LOCATION:St. John’s Episcopal Church – Petaluma\, 530 C Street\, Petaluma\, 94952\, United States
CATEGORIES:Contra Dances
GEO:38.231247;-122.6393062
X-APPLE-STRUCTURED-LOCATION;VALUE=URI;X-ADDRESS=St. John’s Episcopal Church – Petaluma 530 C Street Petaluma 94952 United States;X-APPLE-RADIUS=500;X-TITLE=530 C Street:geo:-122.6393062,38.231247
END:VEVENT
END:VCALENDAR