BEGIN:VCALENDAR
VERSION:2.0
PRODID:-//North Bay Country Dance Society - ECPv5.0.3.1//NONSGML v1.0//EN
CALSCALE:GREGORIAN
METHOD:PUBLISH
X-WR-CALNAME:North Bay Country Dance Society
X-ORIGINAL-URL:https://nbcds.org
X-WR-CALDESC:Events for North Bay Country Dance Society
BEGIN:VTIMEZONE
TZID:America/Los_Angeles
BEGIN:DAYLIGHT
TZOFFSETFROM:-0800
TZOFFSETTO:-0700
TZNAME:PDT
DTSTART:20180311T100000
END:DAYLIGHT
BEGIN:STANDARD
TZOFFSETFROM:-0700
TZOFFSETTO:-0800
TZNAME:PST
DTSTART:20181104T090000
END:STANDARD
END:VTIMEZONE
BEGIN:VEVENT
DTSTART;TZID=America/Los_Angeles:20180101T160000
DTEND;TZID=America/Los_Angeles:20180101T190000
DTSTAMP:20260422T035127
CREATED:20170828T224638Z
LAST-MODIFIED:20171124T043846Z
UID:1363-1514822400-1514833200@nbcds.org
SUMMARY:New Year's Day Contra Dance in Petaluma
DESCRIPTION:Start your year off with friends at the FREE for new dancers and 2018 NBCDS members contra! \nCome become a member at the dance and dance for free! \nBand: Rodney Miller-fiddle\, Chris Knepper-mandolin\, Charlie Hancock-piano \nCaller: Jean Gorrindo (SLO) \n
URL:https://nbcds.org/event/new-years-day-contra-dance-free-for-nbcds-members/
LOCATION:St. John’s Episcopal Church – Petaluma\, 530 C Street\, Petaluma\, 94952\, United States
CATEGORIES:Contra Dances
ORGANIZER;CN="Craig%20Meltzner":MAILTO:craig@nbcds.org
GEO:38.231247;-122.6393062
X-APPLE-STRUCTURED-LOCATION;VALUE=URI;X-ADDRESS=St. John’s Episcopal Church – Petaluma 530 C Street Petaluma 94952 United States;X-APPLE-RADIUS=500;X-TITLE=530 C Street:geo:-122.6393062,38.231247
END:VEVENT
END:VCALENDAR