BEGIN:VCALENDAR
VERSION:2.0
PRODID:-//North Bay Country Dance Society - ECPv5.0.3.1//NONSGML v1.0//EN
CALSCALE:GREGORIAN
METHOD:PUBLISH
X-WR-CALNAME:North Bay Country Dance Society
X-ORIGINAL-URL:https://nbcds.org
X-WR-CALDESC:Events for North Bay Country Dance Society
BEGIN:VTIMEZONE
TZID:America/Los_Angeles
BEGIN:DAYLIGHT
TZOFFSETFROM:-0800
TZOFFSETTO:-0700
TZNAME:PDT
DTSTART:20170312T100000
END:DAYLIGHT
BEGIN:STANDARD
TZOFFSETFROM:-0700
TZOFFSETTO:-0800
TZNAME:PST
DTSTART:20171105T090000
END:STANDARD
END:VTIMEZONE
BEGIN:VEVENT
DTSTART;TZID=America/Los_Angeles:20171231T140000
DTEND;TZID=America/Los_Angeles:20171231T163000
DTSTAMP:20260422T052940
CREATED:20170908T231642Z
LAST-MODIFIED:20171116T034155Z
UID:1430-1514728800-1514737800@nbcds.org
SUMMARY:Advanced English Country Dance - canceled due to floor refinishing
DESCRIPTION:Due to the scheduled floor refinishing at Wischemann Hall between Christmas and New Year’s\, the 5th Sunday Advanced English Dance planned for December 31st is canceled.  Sorry to miss the chance to dance with you all\, but there will be more 5th Sundays! \n  \n
URL:https://nbcds.org/event/advanced-english-country-dance-3/
LOCATION:Wischemann Hall\, 465 Morris St.\, Sebastopol\, CA\, United States
CATEGORIES:English Country Dance
ORGANIZER;CN="Kathy%20Woeltjen":MAILTO:kwoeltjen@yahoo.com
GEO:38.4086229;-122.8208861
X-APPLE-STRUCTURED-LOCATION;VALUE=URI;X-ADDRESS=Wischemann Hall 465 Morris St. Sebastopol CA United States;X-APPLE-RADIUS=500;X-TITLE=465 Morris St.:geo:-122.8208861,38.4086229
END:VEVENT
BEGIN:VEVENT
DTSTART;TZID=America/Los_Angeles:20171231T200000
DTEND;TZID=America/Los_Angeles:20171231T235900
DTSTAMP:20260422T052940
CREATED:20170828T223946Z
LAST-MODIFIED:20171124T043936Z
UID:1359-1514750400-1514764740@nbcds.org
SUMMARY:New Year's Eve Party at Monroe Hall!
DESCRIPTION:Special Dance with Scrumptious Feast and Toast at Midnight \nBand: Rodney Miller-fiddle\, Chris Knepper-mandolin\, Charlie Hancock-piano \nCaller: Jean Gorrindo (SLO) \n\nBeginner’s Lesson at 7:30pm \nOur NYE contra dance party will be at Monroe Hall in Santa Rosa. Delicious Feast provided by NBCDS at the break. We will toast the new year together with cider at midnight. Start the 2018 with friends and joy at the contra dance! \nPrices: $18 NBCDS/CDSS-affiliate members; $20 non-members; $10under 30\, FT students w/ID\, and financial hardship; $5 ages 6-17 \n
URL:https://nbcds.org/event/new-years-eve-party/
LOCATION:Monroe Hall\, 1400 West College Ave.\, Santa Rosa\, CA\, United States
CATEGORIES:Contra Dances
ORGANIZER;CN="Craig%20Meltzner":MAILTO:craig@nbcds.org
GEO:38.4448309;-122.7438472
X-APPLE-STRUCTURED-LOCATION;VALUE=URI;X-ADDRESS=Monroe Hall 1400 West College Ave. Santa Rosa CA United States;X-APPLE-RADIUS=500;X-TITLE=1400 West College Ave.:geo:-122.7438472,38.4448309
END:VEVENT
END:VCALENDAR