BEGIN:VCALENDAR
VERSION:2.0
PRODID:-//North Bay Country Dance Society - ECPv5.0.3.1//NONSGML v1.0//EN
CALSCALE:GREGORIAN
METHOD:PUBLISH
X-WR-CALNAME:North Bay Country Dance Society
X-ORIGINAL-URL:https://nbcds.org
X-WR-CALDESC:Events for North Bay Country Dance Society
BEGIN:VTIMEZONE
TZID:America/Los_Angeles
BEGIN:DAYLIGHT
TZOFFSETFROM:-0800
TZOFFSETTO:-0700
TZNAME:PDT
DTSTART:20170312T100000
END:DAYLIGHT
BEGIN:STANDARD
TZOFFSETFROM:-0700
TZOFFSETTO:-0800
TZNAME:PST
DTSTART:20171105T090000
END:STANDARD
END:VTIMEZONE
BEGIN:VEVENT
DTSTART;TZID=America/Los_Angeles:20171230T200000
DTEND;TZID=America/Los_Angeles:20171230T230000
DTSTAMP:20260422T071857
CREATED:20170821T230205Z
LAST-MODIFIED:20171228T021753Z
UID:1339-1514664000-1514674800@nbcds.org
SUMMARY:Santa Rosa Challenging Contra Dance
DESCRIPTION:Caller: Jean Gorrindo from San Luis Obispo \nBand: Rodney Miller\, fiddle; Chris Knepper\, mandolin; Charlie Hancock\, piano \nSOUND: Marty Brenneis \nDANCE MANAGER: Marlene Mahan \nNot for beginners. If you have been to a few contras come join us- no lesson. \nPrices: $10 NBCDS/CDSS-affiliate members; $12 non-members; $5 under 30\, FT students w/ID\, and financial hardship; $2 ages 6-17 \n
URL:https://nbcds.org/event/santa-rosa-contra-dance-8/
LOCATION:Monroe Hall\, 1400 West College Ave.\, Santa Rosa\, CA\, United States
CATEGORIES:Contra Dances
GEO:38.4448309;-122.7438472
X-APPLE-STRUCTURED-LOCATION;VALUE=URI;X-ADDRESS=Monroe Hall 1400 West College Ave. Santa Rosa CA United States;X-APPLE-RADIUS=500;X-TITLE=1400 West College Ave.:geo:-122.7438472,38.4448309
END:VEVENT
END:VCALENDAR