BEGIN:VCALENDAR
VERSION:2.0
PRODID:-//North Bay Country Dance Society - ECPv5.0.3.1//NONSGML v1.0//EN
CALSCALE:GREGORIAN
METHOD:PUBLISH
X-WR-CALNAME:North Bay Country Dance Society
X-ORIGINAL-URL:https://nbcds.org
X-WR-CALDESC:Events for North Bay Country Dance Society
BEGIN:VTIMEZONE
TZID:America/Los_Angeles
BEGIN:DAYLIGHT
TZOFFSETFROM:-0800
TZOFFSETTO:-0700
TZNAME:PDT
DTSTART:20170312T100000
END:DAYLIGHT
BEGIN:STANDARD
TZOFFSETFROM:-0700
TZOFFSETTO:-0800
TZNAME:PST
DTSTART:20171105T090000
END:STANDARD
END:VTIMEZONE
BEGIN:VEVENT
DTSTART;TZID=America/Los_Angeles:20171210T140000
DTEND;TZID=America/Los_Angeles:20171210T163000
DTSTAMP:20260423T135125
CREATED:20171119T181351Z
LAST-MODIFIED:20171119T181351Z
UID:1795-1512914400-1512923400@nbcds.org
SUMMARY:Napa Holiday English Country Dance Party
DESCRIPTION:Special Holiday English Country Dance Party.  Festive clothing encouraged\, both silly and elegant.  Bring snacks to share.  Calling by Bonnie Richardson\, live music by the Late Bloomers (Rebecca King\, piano and Marilyn Page\, violin). \n
URL:https://nbcds.org/event/napa-holiday-english-country-dance-party/
LOCATION:Arthur Murray Dance Studio\, 1500 Jefferson Street\, Napa\, CA\, 94559\, United States
GEO:38.3012209;-122.2929384
X-APPLE-STRUCTURED-LOCATION;VALUE=URI;X-ADDRESS=Arthur Murray Dance Studio 1500 Jefferson Street Napa CA 94559 United States;X-APPLE-RADIUS=500;X-TITLE=1500 Jefferson Street:geo:-122.2929384,38.3012209
END:VEVENT
END:VCALENDAR