BEGIN:VCALENDAR
VERSION:2.0
PRODID:-//North Bay Country Dance Society - ECPv5.0.3.1//NONSGML v1.0//EN
CALSCALE:GREGORIAN
METHOD:PUBLISH
X-WR-CALNAME:North Bay Country Dance Society
X-ORIGINAL-URL:https://nbcds.org
X-WR-CALDESC:Events for North Bay Country Dance Society
BEGIN:VTIMEZONE
TZID:America/Los_Angeles
BEGIN:DAYLIGHT
TZOFFSETFROM:-0800
TZOFFSETTO:-0700
TZNAME:PDT
DTSTART:20170312T100000
END:DAYLIGHT
BEGIN:STANDARD
TZOFFSETFROM:-0700
TZOFFSETTO:-0800
TZNAME:PST
DTSTART:20171105T090000
END:STANDARD
END:VTIMEZONE
BEGIN:VEVENT
DTSTART;TZID=America/Los_Angeles:20171203T140000
DTEND;TZID=America/Los_Angeles:20171203T163000
DTSTAMP:20260424T001752
CREATED:20170908T220104Z
LAST-MODIFIED:20170908T220104Z
UID:1421-1512309600-1512318600@nbcds.org
SUMMARY:Sebastopol English Country Dance
DESCRIPTION:Thoughtful and energetic teacher of English and Scottish Country Dance in the Bay Area for many years\, we are delighted to welcome back Bruce Hamilton as caller.  Joining him are gifted acoustic musicians Rebecca King on piano\, Jon Berger on violin and Judy Linsenberg on recorder/whistle.\n \nCome early for new dancer instruction at 1:45\, no partner necessary.  Wear smooth-soled\, low-heeled shoes.  Admission $12 general\, $10 members and affiliates\, $5 young adult 19-30 and financial hardship\, $3 youth 6-18.  Fragrance free event\, no perfume or scented products please. Questions\, call Kathy 707-829-0168 or kwoeltjen@yahoo.com. \n
URL:https://nbcds.org/event/sebastopol-english-country-dance-26/
LOCATION:Wischemann Hall\, 465 Morris St.\, Sebastopol\, CA\, United States
CATEGORIES:English Country Dance
ORGANIZER;CN="Kathy%20Woeltjen":MAILTO:kwoeltjen@yahoo.com
GEO:38.4086229;-122.8208861
X-APPLE-STRUCTURED-LOCATION;VALUE=URI;X-ADDRESS=Wischemann Hall 465 Morris St. Sebastopol CA United States;X-APPLE-RADIUS=500;X-TITLE=465 Morris St.:geo:-122.8208861,38.4086229
END:VEVENT
BEGIN:VEVENT
DTSTART;TZID=America/Los_Angeles:20171203T183000
DTEND;TZID=America/Los_Angeles:20171203T213000
DTSTAMP:20260424T001752
CREATED:20170813T205007Z
LAST-MODIFIED:20171115T233121Z
UID:1322-1512325800-1512336600@nbcds.org
SUMMARY:Petaluma Contra Dance
DESCRIPTION:Caller:  Susan Petrick \nBand: KGB (Seattle) : Julie King (piano)\, Claude Ginsburg (fiddle\, concertina) and Dave Bartley (guitar\, mandolin) \nSound: Marty Brenneis \nBeginner’s Lesson at 6:00 p.m. \nPrices:  Special Dance with special dance prices:  $12 NBCDS/CDSS-affiliate members; $14 non-members; $7 under 30\, FT students w/ID\, and financial hardship; $2 ages 6-17 \nPlease note the dance is in the St. John’s Social Hall on C St. between 5th and 6th Streets by the parking lot. \n
URL:https://nbcds.org/event/petaluma-contra-dance-8/
LOCATION:St. John’s Episcopal Church – Petaluma\, 530 C Street\, Petaluma\, 94952\, United States
CATEGORIES:Contra Dances
GEO:38.231247;-122.6393062
X-APPLE-STRUCTURED-LOCATION;VALUE=URI;X-ADDRESS=St. John’s Episcopal Church – Petaluma 530 C Street Petaluma 94952 United States;X-APPLE-RADIUS=500;X-TITLE=530 C Street:geo:-122.6393062,38.231247
END:VEVENT
END:VCALENDAR