BEGIN:VCALENDAR
VERSION:2.0
PRODID:-//North Bay Country Dance Society - ECPv5.0.3.1//NONSGML v1.0//EN
CALSCALE:GREGORIAN
METHOD:PUBLISH
X-WR-CALNAME:North Bay Country Dance Society
X-ORIGINAL-URL:https://nbcds.org
X-WR-CALDESC:Events for North Bay Country Dance Society
BEGIN:VTIMEZONE
TZID:America/Los_Angeles
BEGIN:DAYLIGHT
TZOFFSETFROM:-0800
TZOFFSETTO:-0700
TZNAME:PDT
DTSTART:20220313T100000
END:DAYLIGHT
BEGIN:STANDARD
TZOFFSETFROM:-0700
TZOFFSETTO:-0800
TZNAME:PST
DTSTART:20221106T090000
END:STANDARD
END:VTIMEZONE
BEGIN:VEVENT
DTSTART;TZID=America/Los_Angeles:20220904T183000
DTEND;TZID=America/Los_Angeles:20220904T210000
DTSTAMP:20260422T135336
CREATED:20220710T024214Z
LAST-MODIFIED:20220901T060005Z
UID:7067-1662316200-1662325200@nbcds.org
SUMMARY:September 4th Petaluma Contra
DESCRIPTION:\nBand: Rodney Miller\, fiddle; Rebecca King\, piano \nCaller: Warren Blier \nSound: Marty Brenneis \nManagers: Craig Meltzner and Chris Stadick \nProgrammer: Linda Howard \nBeginner’s lesson around 6:10 p.m. Currently we require dancers to be fully-vaccinated\, including at least one booster\, and masked. Vaccination status will be checked at the door.  Please bring your own water bottles. There will be no food served in the Hall. \nWe will monitor the status of local COVID case rates and public health directives and will be prepared to cancel in-person dances as needed. Please check the NBCDS website (https://nbcds.org/covid-policy/) and/or contact craig@nbcds.org for up-to-date information. \nAugust 31\, 2022 update – the CDC Community Level for Sonoma County is currently at the medium/yellow level. We will continue to hold dances and encourage dancers to consider their personal risk tolerance in deciding whether to participate. At this level\, all participants must be fully vaccinated with booster\, and wear an N95 or equivalent mask. Antigen testing before dancing is encouraged but not required.  \nAdmission: $13 NBCDS/BACDS members; $15 non-members; or $8 limited income. NBCDS is encouraging new dancers at our contra dances. First-time North Bay dancers get in free! \nCram Hall is at St. John’s Episcopal and is located at 530 C Street between Fifth and Sixth Streets in Petaluma. Parking lot adjacent to the Hall at the corner of C and Sixth. \n\n
URL:https://nbcds.org/event/september-4th-petaluma-contra/
LOCATION:St. John’s Episcopal Church – Petaluma\, 530 C Street\, Petaluma\, 94952\, United States
CATEGORIES:Contra Dances
GEO:38.231247;-122.6393062
X-APPLE-STRUCTURED-LOCATION;VALUE=URI;X-ADDRESS=St. John’s Episcopal Church – Petaluma 530 C Street Petaluma 94952 United States;X-APPLE-RADIUS=500;X-TITLE=530 C Street:geo:-122.6393062,38.231247
END:VEVENT
END:VCALENDAR