BEGIN:VCALENDAR
VERSION:2.0
PRODID:-//North Bay Country Dance Society - ECPv5.0.3.1//NONSGML v1.0//EN
CALSCALE:GREGORIAN
METHOD:PUBLISH
X-WR-CALNAME:North Bay Country Dance Society
X-ORIGINAL-URL:https://nbcds.org
X-WR-CALDESC:Events for North Bay Country Dance Society
BEGIN:VTIMEZONE
TZID:America/Los_Angeles
BEGIN:DAYLIGHT
TZOFFSETFROM:-0800
TZOFFSETTO:-0700
TZNAME:PDT
DTSTART:20200308T100000
END:DAYLIGHT
BEGIN:STANDARD
TZOFFSETFROM:-0700
TZOFFSETTO:-0800
TZNAME:PST
DTSTART:20201101T090000
END:STANDARD
END:VTIMEZONE
BEGIN:VEVENT
DTSTART;TZID=America/Los_Angeles:20200328T160000
DTEND;TZID=America/Los_Angeles:20200328T173000
DTSTAMP:20260425T105631
CREATED:20200110T005058Z
LAST-MODIFIED:20200418T150922Z
UID:4604-1585411200-1585416600@nbcds.org
SUMMARY:No Sebastopol Family Dance this month
DESCRIPTION:No Family Dance.  Family Dancers are invited to come hear the Stringrays (Rodney’s band) in concert on Saturday\, 3/28\, 12:00-12:30 at the Strawberry Recreation District Reception Hall\, 118 E. Strawberry Dr.\, Mill Valley\, CA.  Let us know if you’re interested in having a short family dance right after the concert at the hall.  Email Susan at skamato@hotmail.com \n
URL:https://nbcds.org/event/sebastopol-family-dance-12/
END:VEVENT
END:VCALENDAR