BEGIN:VCALENDAR
VERSION:2.0
PRODID:-//North Bay Country Dance Society - ECPv5.0.3.1//NONSGML v1.0//EN
CALSCALE:GREGORIAN
METHOD:PUBLISH
X-WR-CALNAME:North Bay Country Dance Society
X-ORIGINAL-URL:https://nbcds.org
X-WR-CALDESC:Events for North Bay Country Dance Society
BEGIN:VTIMEZONE
TZID:America/Los_Angeles
BEGIN:DAYLIGHT
TZOFFSETFROM:-0800
TZOFFSETTO:-0700
TZNAME:PDT
DTSTART:20160313T100000
END:DAYLIGHT
BEGIN:STANDARD
TZOFFSETFROM:-0700
TZOFFSETTO:-0800
TZNAME:PST
DTSTART:20161106T090000
END:STANDARD
END:VTIMEZONE
BEGIN:VEVENT
DTSTART;TZID=America/Los_Angeles:20161106T140000
DTEND;TZID=America/Los_Angeles:20161106T163000
DTSTAMP:20260421T130459
CREATED:20161104T222224Z
LAST-MODIFIED:20161108T193542Z
UID:64-1478440800-1478449800@nbcds.org
SUMMARY:Sebastopol English Country Dance
DESCRIPTION:Event Details:\nCaller: Gary Thomas\nBand: Bangers & Mash — Craig Johnson (piano)\, David Strong (violin)\,\nStan Kramer (violin)\, Susan Kramer (flute) \nDirections:\nFrom Rt. 101 in Santa Rosa\, just get yourself on highway 12 headed west toward Sebastopol\, and turn right at the first light after you cross the bridge over the Laguna. That’s Morris St. If you go farther one block you get into town. Wischemann Hall is at the end of Morris St.\, where it starts curving to the left. (See map below.) \n
URL:https://nbcds.org/event/sebastopol-english-country-dance/
LOCATION:Wischemann Hall\, 465 Morris St.\, Sebastopol\, CA\, United States
CATEGORIES:English Country Dance
ORGANIZER;CN="Kathy%20Woeltjen":MAILTO:kwoeltjen@yahoo.com
GEO:38.4086229;-122.8208861
X-APPLE-STRUCTURED-LOCATION;VALUE=URI;X-ADDRESS=Wischemann Hall 465 Morris St. Sebastopol CA United States;X-APPLE-RADIUS=500;X-TITLE=465 Morris St.:geo:-122.8208861,38.4086229
END:VEVENT
END:VCALENDAR