BEGIN:VCALENDAR
VERSION:2.0
PRODID:-//North Bay Country Dance Society - ECPv5.0.3.1//NONSGML v1.0//EN
CALSCALE:GREGORIAN
METHOD:PUBLISH
X-WR-CALNAME:North Bay Country Dance Society
X-ORIGINAL-URL:https://nbcds.org
X-WR-CALDESC:Events for North Bay Country Dance Society
BEGIN:VTIMEZONE
TZID:America/Los_Angeles
BEGIN:DAYLIGHT
TZOFFSETFROM:-0800
TZOFFSETTO:-0700
TZNAME:PDT
DTSTART:20170312T100000
END:DAYLIGHT
BEGIN:STANDARD
TZOFFSETFROM:-0700
TZOFFSETTO:-0800
TZNAME:PST
DTSTART:20171105T090000
END:STANDARD
END:VTIMEZONE
BEGIN:VEVENT
DTSTART;TZID=America/Los_Angeles:20170319T140000
DTEND;TZID=America/Los_Angeles:20170319T163000
DTSTAMP:20260421T101827
CREATED:20170118T054031Z
LAST-MODIFIED:20170118T062640Z
UID:470-1489932000-1489941000@nbcds.org
SUMMARY:Sebastopol English Country Dance
DESCRIPTION:\nSebastopol English Country Dance \n\n\n\n\nSunday\, March 19\, 2017 | 2:00pm – 4:30pm \n\n\n\nLocation: Sebastopol\, Wischemann Hall \n\n\n\nCategory:\n\n\n\nEnglish Country Dances \n\n\n\n\n\nDescription \nCaller: Lise Dykmann\nBand: Gary Thomas (piano)\, Clara Stepanov-Wagner (violin)\, Dan Reynolds (bass)Prices: $10 NBCDS/CDSS-affiliate members; $12 non-members; $5 under 30\, FT students w/ID\, and financial hardship; $2 ages 6-17 \n\nContact: Kathy Woeltjen\nEmail: kwoeltjen@yahoo.com\nPhone: 7078290168 \n\n\n
URL:https://nbcds.org/event/sebastopol-english-country-dance-8/
END:VEVENT
END:VCALENDAR