BEGIN:VCALENDAR
VERSION:2.0
PRODID:-//North Bay Country Dance Society - ECPv5.0.3.1//NONSGML v1.0//EN
CALSCALE:GREGORIAN
METHOD:PUBLISH
X-WR-CALNAME:North Bay Country Dance Society
X-ORIGINAL-URL:https://nbcds.org
X-WR-CALDESC:Events for North Bay Country Dance Society
BEGIN:VTIMEZONE
TZID:America/Los_Angeles
BEGIN:DAYLIGHT
TZOFFSETFROM:-0800
TZOFFSETTO:-0700
TZNAME:PDT
DTSTART:20170312T100000
END:DAYLIGHT
BEGIN:STANDARD
TZOFFSETFROM:-0700
TZOFFSETTO:-0800
TZNAME:PST
DTSTART:20171105T090000
END:STANDARD
END:VTIMEZONE
BEGIN:VEVENT
DTSTART;TZID=America/Los_Angeles:20170219T140000
DTEND;TZID=America/Los_Angeles:20170219T163000
DTSTAMP:20260421T101625
CREATED:20170116T153242Z
LAST-MODIFIED:20170118T052418Z
UID:338-1487512800-1487521800@nbcds.org
SUMMARY:Sebastopol English Country Dance
DESCRIPTION:Caller: Alisa Dodson\nBand: Gary Thomas (piano)\, Priscilla Essert (flute)\, Maggie Moore (violin) \n
URL:https://nbcds.org/event/sebastopol-english-country-dance-7/
CATEGORIES:English Country Dance
ORGANIZER;CN="Kathy%20Woeltjen":MAILTO:kwoeltjen@yahoo.com
END:VEVENT
END:VCALENDAR