BEGIN:VCALENDAR
VERSION:2.0
PRODID:-//North Bay Country Dance Society - ECPv5.0.3.1//NONSGML v1.0//EN
CALSCALE:GREGORIAN
METHOD:PUBLISH
X-WR-CALNAME:North Bay Country Dance Society
X-ORIGINAL-URL:https://nbcds.org
X-WR-CALDESC:Events for North Bay Country Dance Society
BEGIN:VTIMEZONE
TZID:America/Los_Angeles
BEGIN:DAYLIGHT
TZOFFSETFROM:-0800
TZOFFSETTO:-0700
TZNAME:PDT
DTSTART:20160313T100000
END:DAYLIGHT
BEGIN:STANDARD
TZOFFSETFROM:-0700
TZOFFSETTO:-0800
TZNAME:PST
DTSTART:20161106T090000
END:STANDARD
END:VTIMEZONE
BEGIN:VEVENT
DTSTART;TZID=America/Los_Angeles:20161218T140000
DTEND;TZID=America/Los_Angeles:20161218T163000
DTSTAMP:20260421T130518
CREATED:20161216T185403Z
LAST-MODIFIED:20170118T050925Z
UID:159-1482069600-1482078600@nbcds.org
SUMMARY:Sebastopol English Country Dance
DESCRIPTION:Caller: Bruce Hamilton\nBand: Rebecca King (piano)\, Anne Goess (violin)\, Tom Lindemuth (whistle) \n
URL:https://nbcds.org/event/sebastopol-english-country-dance-4/
LOCATION:Wischemann Hall\, 465 Morris St.\, Sebastopol\, CA\, United States
CATEGORIES:English Country Dance
ORGANIZER;CN="Kathy%20Woeltjen":MAILTO:kwoeltjen@yahoo.com
GEO:38.4086229;-122.8208861
X-APPLE-STRUCTURED-LOCATION;VALUE=URI;X-ADDRESS=Wischemann Hall 465 Morris St. Sebastopol CA United States;X-APPLE-RADIUS=500;X-TITLE=465 Morris St.:geo:-122.8208861,38.4086229
END:VEVENT
END:VCALENDAR