BEGIN:VCALENDAR
VERSION:2.0
PRODID:-//North Bay Country Dance Society - ECPv5.0.3.1//NONSGML v1.0//EN
CALSCALE:GREGORIAN
METHOD:PUBLISH
X-WR-CALNAME:North Bay Country Dance Society
X-ORIGINAL-URL:https://nbcds.org
X-WR-CALDESC:Events for North Bay Country Dance Society
BEGIN:VTIMEZONE
TZID:America/Los_Angeles
BEGIN:DAYLIGHT
TZOFFSETFROM:-0800
TZOFFSETTO:-0700
TZNAME:PDT
DTSTART:20170312T100000
END:DAYLIGHT
BEGIN:STANDARD
TZOFFSETFROM:-0700
TZOFFSETTO:-0800
TZNAME:PST
DTSTART:20171105T090000
END:STANDARD
END:VTIMEZONE
BEGIN:VEVENT
DTSTART;TZID=America/Los_Angeles:20171105T140000
DTEND;TZID=America/Los_Angeles:20171105T163000
DTSTAMP:20260423T191451
CREATED:20170908T211943Z
LAST-MODIFIED:20170908T211943Z
UID:1408-1509890400-1509899400@nbcds.org
SUMMARY:Sebastopol English Country Dance
DESCRIPTION:Local favorite caller Kalia Kliban will be joined by members of the Sacramento-based band Whimsical\, including Debra Tayleur on piano\, Roxanne Oliva on accordion\, and Janette Duncan on violin. \nCome early for new dancer instruction at 1:45\, no partner necessary.  Wear smooth-soled\, low-heeled shoes.  Admission $12 general\, $10 members and affiliates\, $5 young adult 19-30 and financial hardship\, $3 youth 6-18.  Fragrance free event\, no perfume or scented products please. Questions\, call Kathy 707-829-0168 or kwoeltjen@yahoo.com. \n
URL:https://nbcds.org/event/sebastopol-english-country-dance-24/
ORGANIZER;CN="Kathy%20Woeltjen":MAILTO:kwoeltjen@yahoo.com
END:VEVENT
END:VCALENDAR