BEGIN:VCALENDAR
VERSION:2.0
PRODID:-//North Bay Country Dance Society - ECPv5.0.3.1//NONSGML v1.0//EN
CALSCALE:GREGORIAN
METHOD:PUBLISH
X-WR-CALNAME:North Bay Country Dance Society
X-ORIGINAL-URL:https://nbcds.org
X-WR-CALDESC:Events for North Bay Country Dance Society
BEGIN:VTIMEZONE
TZID:America/Los_Angeles
BEGIN:DAYLIGHT
TZOFFSETFROM:-0800
TZOFFSETTO:-0700
TZNAME:PDT
DTSTART:20170312T100000
END:DAYLIGHT
BEGIN:STANDARD
TZOFFSETFROM:-0700
TZOFFSETTO:-0800
TZNAME:PST
DTSTART:20171105T090000
END:STANDARD
END:VTIMEZONE
BEGIN:VEVENT
DTSTART;TZID=America/Los_Angeles:20171001T140000
DTEND;TZID=America/Los_Angeles:20171001T163000
DTSTAMP:20260423T085032
CREATED:20170906T234727Z
LAST-MODIFIED:20170906T234727Z
UID:1388-1506866400-1506875400@nbcds.org
SUMMARY:Sebastopol English Country Dance
DESCRIPTION:David Newitt calls\, teaches and plays for English\, Scottish and contra dances throughout the Bay area.  Our fine musicians include Gary Thomas on piano\, David Mostardi on accordion\, and Anne Goess on violin. \nCome early for new dancer instruction at 1:45\, no partner necessary.  Wear smooth-soled\, low-heeled shoes.  Admission $12 general\, $10 members and affiliates\, $5 young adult 19-30 and financial hardship\, $3 youth 6-18.  Fragrance free event\, no perfume or scented products please. Questions\, call Kathy 707-829-0168 or kwoeltjen@yahoo.com. \nNOTE:  Regular third Sunday ECD will not be held Oct 15 so folks can attend BACDS Fall Frolick. \n
URL:https://nbcds.org/event/sebastopol-english-country-dance-23/
LOCATION:Wischemann Hall\, 465 Morris St.\, Sebastopol\, CA\, United States
CATEGORIES:English Country Dance
ORGANIZER;CN="Kathy%20Woeltjen":MAILTO:kwoeltjen@yahoo.com
GEO:38.4086229;-122.8208861
X-APPLE-STRUCTURED-LOCATION;VALUE=URI;X-ADDRESS=Wischemann Hall 465 Morris St. Sebastopol CA United States;X-APPLE-RADIUS=500;X-TITLE=465 Morris St.:geo:-122.8208861,38.4086229
END:VEVENT
END:VCALENDAR