BEGIN:VCALENDAR
VERSION:2.0
PRODID:-//North Bay Country Dance Society - ECPv5.0.3.1//NONSGML v1.0//EN
CALSCALE:GREGORIAN
METHOD:PUBLISH
X-WR-CALNAME:North Bay Country Dance Society
X-ORIGINAL-URL:https://nbcds.org
X-WR-CALDESC:Events for North Bay Country Dance Society
BEGIN:VTIMEZONE
TZID:America/Los_Angeles
BEGIN:DAYLIGHT
TZOFFSETFROM:-0800
TZOFFSETTO:-0700
TZNAME:PDT
DTSTART:20170312T100000
END:DAYLIGHT
BEGIN:STANDARD
TZOFFSETFROM:-0700
TZOFFSETTO:-0800
TZNAME:PST
DTSTART:20171105T090000
END:STANDARD
END:VTIMEZONE
BEGIN:VEVENT
DTSTART;TZID=America/Los_Angeles:20170716T140000
DTEND;TZID=America/Los_Angeles:20170716T163000
DTSTAMP:20260422T014347
CREATED:20170620T235024Z
LAST-MODIFIED:20170620T235330Z
UID:1146-1500213600-1500222600@nbcds.org
SUMMARY:Sebastopol English Country Dance
DESCRIPTION:\n\n\n\n\n\n\n\n\n\n\n\nWe are happy to have our own  Kalia Kliban in town between traveling gigs.  She will be accompanied by more local favorites Laurie Reaume on piano\, Anne Goess on violin (she played for our Mad Robin Ball last month)\, and Tom Lindemuth on whistle and percussion.  Join us for a lively afternoon of spirited and graceful dancing. \nCome early for new dancer instruction at 1:45\, no partner necessary.  Admission $12 general\, $10 members\, $5 young adult 19-30 and financial hardship\, $3 youth 6-18.  Fragrance free event\, no perfume or scented products please. Questions\, call Kathy 707-829-0168 or kwoeltjen@yahoo.com. \n  \n  \n\n\n\n\n\n\n\n\n\n\n\n\n
URL:https://nbcds.org/event/sebastopol-english-country-dance-17/
LOCATION:Wischemann Hall\, 465 Morris St.\, Sebastopol\, CA\, United States
CATEGORIES:English Country Dance
ORGANIZER;CN="Kathy%20Woeltjen":MAILTO:kwoeltjen@yahoo.com
GEO:38.4086229;-122.8208861
X-APPLE-STRUCTURED-LOCATION;VALUE=URI;X-ADDRESS=Wischemann Hall 465 Morris St. Sebastopol CA United States;X-APPLE-RADIUS=500;X-TITLE=465 Morris St.:geo:-122.8208861,38.4086229
END:VEVENT
END:VCALENDAR