BEGIN:VCALENDAR
VERSION:2.0
PRODID:-//North Bay Country Dance Society - ECPv5.0.3.1//NONSGML v1.0//EN
CALSCALE:GREGORIAN
METHOD:PUBLISH
X-WR-CALNAME:North Bay Country Dance Society
X-ORIGINAL-URL:https://nbcds.org
X-WR-CALDESC:Events for North Bay Country Dance Society
BEGIN:VTIMEZONE
TZID:America/Los_Angeles
BEGIN:DAYLIGHT
TZOFFSETFROM:-0800
TZOFFSETTO:-0700
TZNAME:PDT
DTSTART:20170312T100000
END:DAYLIGHT
BEGIN:STANDARD
TZOFFSETFROM:-0700
TZOFFSETTO:-0800
TZNAME:PST
DTSTART:20171105T090000
END:STANDARD
END:VTIMEZONE
BEGIN:VEVENT
DTSTART;TZID=America/Los_Angeles:20170702T140000
DTEND;TZID=America/Los_Angeles:20170702T163000
DTSTAMP:20260422T030227
CREATED:20170620T233940Z
LAST-MODIFIED:20170621T000500Z
UID:1143-1499004000-1499013000@nbcds.org
SUMMARY:Sebastopol English Country Dance
DESCRIPTION:\n\n\n\n\n\n\n\n\n\n\n\nBob Green from Missouri joins band Ladies at Play from Oklahoma for our spirited English dance this Fourth of July weekend.  Adventurous acoustic musicians include Shanda McDonald on violin and accordion\, Miranda Arana on flute\, whistle and percussion\, and Kathy Dagg on guitar\, mandolin and banjo.  What an amazing combination of instruments!  All our talent have expertise with several styles of dance.  This will be a treat! \nCome early for new dancer instruction at 1:45\, no partner necessary.  Admission $12 general\, $10 members\, $5 young adult 19-30 and financial hardship\, $3 youth 6-18.  Fragrance free event\, no perfume or scented products please. Questions\, call Kathy 707-829-0168 or kwoeltjen@yahoo.com. \n  \n\n\n\n\n\n\n\n\n\n\n\n\n
URL:https://nbcds.org/event/sebastopol-english-country-dance-16/
LOCATION:Wischemann Hall\, 465 Morris St.\, Sebastopol\, CA\, United States
CATEGORIES:English Country Dance
ORGANIZER;CN="Kathy%20Woeltjen":MAILTO:kwoeltjen@yahoo.com
GEO:38.4086229;-122.8208861
X-APPLE-STRUCTURED-LOCATION;VALUE=URI;X-ADDRESS=Wischemann Hall 465 Morris St. Sebastopol CA United States;X-APPLE-RADIUS=500;X-TITLE=465 Morris St.:geo:-122.8208861,38.4086229
END:VEVENT
END:VCALENDAR