BEGIN:VCALENDAR
VERSION:2.0
PRODID:-//North Bay Country Dance Society - ECPv5.0.3.1//NONSGML v1.0//EN
CALSCALE:GREGORIAN
METHOD:PUBLISH
X-WR-CALNAME:North Bay Country Dance Society
X-ORIGINAL-URL:https://nbcds.org
X-WR-CALDESC:Events for North Bay Country Dance Society
BEGIN:VTIMEZONE
TZID:America/Los_Angeles
BEGIN:DAYLIGHT
TZOFFSETFROM:-0800
TZOFFSETTO:-0700
TZNAME:PDT
DTSTART:20170312T100000
END:DAYLIGHT
BEGIN:STANDARD
TZOFFSETFROM:-0700
TZOFFSETTO:-0800
TZNAME:PST
DTSTART:20171105T090000
END:STANDARD
END:VTIMEZONE
BEGIN:VEVENT
DTSTART;TZID=America/Los_Angeles:20170507T140000
DTEND;TZID=America/Los_Angeles:20170507T163000
DTSTAMP:20260421T084728
CREATED:20170320T032714Z
LAST-MODIFIED:20170320T230513Z
UID:535-1494165600-1494174600@nbcds.org
SUMMARY:Sebastopol English Country Dance
DESCRIPTION:A lively afternoon of spirited and graceful dancing with \nCaller: Alan Winston \nBand: Valerie Peters (piano)\, Christopher Jacoby (mandolin/accordion)\, Clara Stepanov-Wagner (violin) \nNew dancer instruction at 1:45 \nAdmission: $12 general/$10 members/$3 youth/ $5 young adult 19-30 \nFragrance free event\, no perfume or scented products please. \nQuestions: Kathy 707-829-0168 or kwoeltjen@yahoo.com \n
URL:https://nbcds.org/event/sebastopol-english-country-dance-12/
LOCATION:Wischemann Hall\, 465 Morris St.\, Sebastopol\, CA\, United States
CATEGORIES:English Country Dance
ORGANIZER;CN="Kathy%20Woeltjen":MAILTO:kwoeltjen@yahoo.com
GEO:38.4086229;-122.8208861
X-APPLE-STRUCTURED-LOCATION;VALUE=URI;X-ADDRESS=Wischemann Hall 465 Morris St. Sebastopol CA United States;X-APPLE-RADIUS=500;X-TITLE=465 Morris St.:geo:-122.8208861,38.4086229
END:VEVENT
END:VCALENDAR