BEGIN:VCALENDAR
VERSION:2.0
PRODID:-//North Bay Country Dance Society - ECPv5.0.3.1//NONSGML v1.0//EN
CALSCALE:GREGORIAN
METHOD:PUBLISH
X-WR-CALNAME:North Bay Country Dance Society
X-ORIGINAL-URL:https://nbcds.org
X-WR-CALDESC:Events for North Bay Country Dance Society
BEGIN:VTIMEZONE
TZID:America/Los_Angeles
BEGIN:DAYLIGHT
TZOFFSETFROM:-0800
TZOFFSETTO:-0700
TZNAME:PDT
DTSTART:20200308T100000
END:DAYLIGHT
BEGIN:STANDARD
TZOFFSETFROM:-0700
TZOFFSETTO:-0800
TZNAME:PST
DTSTART:20201101T090000
END:STANDARD
END:VTIMEZONE
BEGIN:VEVENT
DTSTART;TZID=America/Los_Angeles:20200620T190000
DTEND;TZID=America/Los_Angeles:20200620T200000
DTSTAMP:20260423T151211
CREATED:20200527T163852Z
LAST-MODIFIED:20200616T020012Z
UID:5071-1592679600-1592683200@nbcds.org
SUMMARY:Saturday Evening Waltz Party with George Paul and Rob Zizette on Zoom
DESCRIPTION: Many of us know and love George Paul’s waltzes on piano. He’s known for his Waltzes before breakfast at American Week summer camp and his Potent Brew CD collection. He will play for us on his Steinway piano accompanied by Rob  Zizette\, fiddler who was classically trained; raised on rock\, pop\, funk\, soul\, folk\, and everything in between. \nSaturday Evening Waltz Party with George Paul and Rob Zizette\nTime: Jun 20\, 2020 07:00 PM Pacific Time (US and Canada) \nJoin Zoom Meeting\nhttps://us02web.zoom.us/j/81235404218?pwd=REkxL3FjUCt1TVhpbG5OU1V5TXMxQT09 \nMeeting ID: 812 3540 4218\nPassword: 535247\nOne tap mobile\n+16699009128\,\,81235404218#\,\,\,\,0#\,\,535247# US (San Jose)\n+12532158782\,\,81235404218#\,\,\,\,0#\,\,535247# US (Tacoma) \nDial by your location\n+1 669 900 9128 US (San Jose)\n+1 253 215 8782 US (Tacoma)\n+1 346 248 7799 US (Houston)\n+1 312 626 6799 US (Chicago)\n+1 646 558 8656 US (New York)\n+1 301 715 8592 US (Germantown)\nMeeting ID: 812 3540 4218\nPassword: 535247\nFind your local number: https://us02web.zoom.us/u/kRtZnqYUi \n
URL:https://nbcds.org/event/saturday-evening-waltz-party-with-george-paul-and-rob-zizette-on-zoom/
CATEGORIES:Contra Dances
ORGANIZER;CN="Sarah%20Lee":MAILTO:sarah@nbcds.org
END:VEVENT
END:VCALENDAR