BEGIN:VCALENDAR
VERSION:2.0
PRODID:-//North Bay Country Dance Society - ECPv5.0.3.1//NONSGML v1.0//EN
CALSCALE:GREGORIAN
METHOD:PUBLISH
X-WR-CALNAME:North Bay Country Dance Society
X-ORIGINAL-URL:https://nbcds.org
X-WR-CALDESC:Events for North Bay Country Dance Society
BEGIN:VTIMEZONE
TZID:America/Los_Angeles
BEGIN:DAYLIGHT
TZOFFSETFROM:-0800
TZOFFSETTO:-0700
TZNAME:PDT
DTSTART:20170312T100000
END:DAYLIGHT
BEGIN:STANDARD
TZOFFSETFROM:-0700
TZOFFSETTO:-0800
TZNAME:PST
DTSTART:20171105T090000
END:STANDARD
END:VTIMEZONE
BEGIN:VEVENT
DTSTART;TZID=America/Los_Angeles:20171020T200000
DTEND;TZID=America/Los_Angeles:20171020T230000
DTSTAMP:20260423T145552
CREATED:20170828T220949Z
LAST-MODIFIED:20171018T171229Z
UID:1346-1508529600-1508540400@nbcds.org
SUMMARY:Santa Rosa Contra Dance-Fundraiser for Fire Victims
DESCRIPTION:The dance is on! and NBCDS is sponsoring it. Which means it is free for fire victims and for the rest of us it is a fundraiser to help those affected by the fires. So\, pay what you can and we will match all proceeds and donate them to the Redwood Credit Union Fire Relief Fund. \nIf you plan to bring a check here are instructions: \nMake checks payable to RCU Community Fund. Include “2017 North Bay Fire Relief” in memo area\, along with which county (or “All”) you’d like to support.  https://www.redwoodcu.org/northbayfirerelief \nCaller: Chuck Galt \nBand: Ben Schreiber (fiddle)\, Chris Knepper (fiddle\, mandolin)\, Will Wheeler (guitar\, feet) \nSOUND: Carlo Calabi \nDANCE MANAGER: Karen Frazier \nBeginner’s Lesson at 7:30pm \nPrices: $10 NBCDS/CDSS-affiliate members; $12 non-members; $5 under 30\, FT students w/ID\, and financial hardship; $2 ages 6-17 \n
URL:https://nbcds.org/event/santa-rosa-contra-dance-9/
LOCATION:Monroe Hall\, 1400 West College Ave.\, Santa Rosa\, CA\, United States
CATEGORIES:Contra Dances
GEO:38.4448309;-122.7438472
X-APPLE-STRUCTURED-LOCATION;VALUE=URI;X-ADDRESS=Monroe Hall 1400 West College Ave. Santa Rosa CA United States;X-APPLE-RADIUS=500;X-TITLE=1400 West College Ave.:geo:-122.7438472,38.4448309
END:VEVENT
END:VCALENDAR