BEGIN:VCALENDAR
VERSION:2.0
PRODID:-//North Bay Country Dance Society - ECPv5.0.3.1//NONSGML v1.0//EN
CALSCALE:GREGORIAN
METHOD:PUBLISH
X-WR-CALNAME:North Bay Country Dance Society
X-ORIGINAL-URL:https://nbcds.org
X-WR-CALDESC:Events for North Bay Country Dance Society
BEGIN:VTIMEZONE
TZID:America/Los_Angeles
BEGIN:DAYLIGHT
TZOFFSETFROM:-0800
TZOFFSETTO:-0700
TZNAME:PDT
DTSTART:20250309T100000
END:DAYLIGHT
BEGIN:STANDARD
TZOFFSETFROM:-0700
TZOFFSETTO:-0800
TZNAME:PST
DTSTART:20251102T090000
END:STANDARD
END:VTIMEZONE
BEGIN:VEVENT
DTSTART;TZID=America/Los_Angeles:20251220T190000
DTEND;TZID=America/Los_Angeles:20251220T220000
DTSTAMP:20260420T005824
CREATED:20221215T050316Z
LAST-MODIFIED:20260106T014650Z
UID:9998-1766257200-1766268000@nbcds.org
SUMMARY:Santa Rosa Contra Dance!
DESCRIPTION:\n\n\n\nCaller: Lea Smith \nBand: Gus Garelick\, Ernie Noyes\, Mike Southworth \nManager: Craig Meltzner \nBeginners lesson at 6:30 PM! First time dancers with NBCDS dance free! \n\n\n\nPlease refrain from wearing fragrances or scented products.\nPlease bring your own water bottles.\nSnacks will be available and feel free to bring some!\nAdmission: $15 NBCDS/BACDS/CDSS members; $20 non-members; or pay as you can \n\n\n\n\n\n
URL:https://nbcds.org/event/santa-rosa-contra-dance-26-2023-04-15-2023-06-17-2023-07-15-2023-09-30-2023-12-16-2024-12-21-2025-01-18-2025-05-17-2025-12-20/
LOCATION:Monroe Hall\, 1400 West College Ave.\, Santa Rosa\, CA\, United States
CATEGORIES:Contra Dances
ORGANIZER;CN="Craig%20Meltzner":MAILTO:craig@nbcds.org
GEO:38.4448309;-122.7438472
X-APPLE-STRUCTURED-LOCATION;VALUE=URI;X-ADDRESS=Monroe Hall 1400 West College Ave. Santa Rosa CA United States;X-APPLE-RADIUS=500;X-TITLE=1400 West College Ave.:geo:-122.7438472,38.4448309
END:VEVENT
END:VCALENDAR