BEGIN:VCALENDAR
VERSION:2.0
PRODID:-//North Bay Country Dance Society - ECPv5.0.3.1//NONSGML v1.0//EN
CALSCALE:GREGORIAN
METHOD:PUBLISH
X-WR-CALNAME:North Bay Country Dance Society
X-ORIGINAL-URL:https://nbcds.org
X-WR-CALDESC:Events for North Bay Country Dance Society
BEGIN:VTIMEZONE
TZID:America/Los_Angeles
BEGIN:DAYLIGHT
TZOFFSETFROM:-0800
TZOFFSETTO:-0700
TZNAME:PDT
DTSTART:20230312T100000
END:DAYLIGHT
BEGIN:STANDARD
TZOFFSETFROM:-0700
TZOFFSETTO:-0800
TZNAME:PST
DTSTART:20231105T090000
END:STANDARD
END:VTIMEZONE
BEGIN:VEVENT
DTSTART;TZID=America/Los_Angeles:20230429T190000
DTEND;TZID=America/Los_Angeles:20230429T220000
DTSTAMP:20260422T030350
CREATED:20221215T050316Z
LAST-MODIFIED:20230412T031058Z
UID:8163-1682794800-1682805600@nbcds.org
SUMMARY:Santa Rosa Contra Dance!
DESCRIPTION:Band: Rebecca King & Rodney Miller\nCaller: Kelsey Hartman\nSound: Carlo Calabi\nManager: Karen Frazier / Chris Stadick\n\n\nAs of March 11\, we require dancers to be masked in accordance with our current COVID safety policy. Additional COVID protocols\, including testing before the event\, depend on the current CDC Community Level which is updated Thursday evenings\, so check the NBCDS.org website for current status. \nPlease refrain from wearing fragrances or scented products. Please bring your own water bottles. \nAdmission: $13 NBCDS/BACDS members; $15 non-members; or $8 limited income \n\n\n
URL:https://nbcds.org/event/santa-rosa-contra-dance-26-2023-04-15-2023-04-29/
LOCATION:Monroe Hall\, 1400 West College Ave.\, Santa Rosa\, CA\, United States
CATEGORIES:Contra Dances
ORGANIZER;CN="Chris%20Stadick":MAILTO:chrisstadick@gmail.com
GEO:38.4448309;-122.7438472
X-APPLE-STRUCTURED-LOCATION;VALUE=URI;X-ADDRESS=Monroe Hall 1400 West College Ave. Santa Rosa CA United States;X-APPLE-RADIUS=500;X-TITLE=1400 West College Ave.:geo:-122.7438472,38.4448309
END:VEVENT
END:VCALENDAR