BEGIN:VCALENDAR
VERSION:2.0
PRODID:-//North Bay Country Dance Society - ECPv5.0.3.1//NONSGML v1.0//EN
CALSCALE:GREGORIAN
METHOD:PUBLISH
X-WR-CALNAME:North Bay Country Dance Society
X-ORIGINAL-URL:https://nbcds.org
X-WR-CALDESC:Events for North Bay Country Dance Society
BEGIN:VTIMEZONE
TZID:America/Los_Angeles
BEGIN:DAYLIGHT
TZOFFSETFROM:-0800
TZOFFSETTO:-0700
TZNAME:PDT
DTSTART:20200308T100000
END:DAYLIGHT
BEGIN:STANDARD
TZOFFSETFROM:-0700
TZOFFSETTO:-0800
TZNAME:PST
DTSTART:20201101T090000
END:STANDARD
END:VTIMEZONE
BEGIN:VEVENT
DTSTART;TZID=America/Los_Angeles:20200117T200000
DTEND;TZID=America/Los_Angeles:20200117T230000
DTSTAMP:20260425T121412
CREATED:20191120T001657Z
LAST-MODIFIED:20200107T183700Z
UID:4305-1579291200-1579302000@nbcds.org
SUMMARY:SANTA ROSA CONTRA DANCE
DESCRIPTION:Caller: Lea Smith \nBand:  \nErik Hoffman (fiddle) \nCraig Johnson (piano) \nTodd Silverstein (Irish whistle\, saxophone\, bouzouki) \nSound: Carlo Calabi \nManager: Karen Frazier \nBeginner’s Lesson at 7:30pm \nPrices: $10 NBCDS/CDSS-affiliate members; $12 non-members; $5 under 30\, FT students w/ID\, and financial hardship; $2 ages 6-17 \n
URL:https://nbcds.org/event/santa-rosa-contra-dance-21/
LOCATION:Monroe Hall\, 1400 West College Ave.\, Santa Rosa\, CA\, United States
CATEGORIES:Contra Dances
GEO:38.4448309;-122.7438472
X-APPLE-STRUCTURED-LOCATION;VALUE=URI;X-ADDRESS=Monroe Hall 1400 West College Ave. Santa Rosa CA United States;X-APPLE-RADIUS=500;X-TITLE=1400 West College Ave.:geo:-122.7438472,38.4448309
END:VEVENT
END:VCALENDAR