BEGIN:VCALENDAR
VERSION:2.0
PRODID:-//North Bay Country Dance Society - ECPv5.0.3.1//NONSGML v1.0//EN
CALSCALE:GREGORIAN
METHOD:PUBLISH
X-WR-CALNAME:North Bay Country Dance Society
X-ORIGINAL-URL:https://nbcds.org
X-WR-CALDESC:Events for North Bay Country Dance Society
BEGIN:VTIMEZONE
TZID:America/Los_Angeles
BEGIN:DAYLIGHT
TZOFFSETFROM:-0800
TZOFFSETTO:-0700
TZNAME:PDT
DTSTART:20200308T100000
END:DAYLIGHT
BEGIN:STANDARD
TZOFFSETFROM:-0700
TZOFFSETTO:-0800
TZNAME:PST
DTSTART:20201101T090000
END:STANDARD
END:VTIMEZONE
BEGIN:VEVENT
DTSTART;TZID=America/Los_Angeles:20200509T190000
DTEND;TZID=America/Los_Angeles:20200509T220000
DTSTAMP:20260423T145654
CREATED:20200204T085904Z
LAST-MODIFIED:20200418T152834Z
UID:4741-1589050800-1589061600@nbcds.org
SUMMARY:San Rafael Contra Dance - CANCELLED
DESCRIPTION:
URL:https://nbcds.org/event/san-rafael-contra-dance-27/
LOCATION:Unitarian Universalist Congregation of Marin\, 240 Channing Way\, San Rafael\, CA 94903
ORGANIZER;CN="Susan%20Amato":MAILTO:skamato@hotmail.com
GEO:38.0077558;-122.5371218
X-APPLE-STRUCTURED-LOCATION;VALUE=URI;X-ADDRESS=Unitarian Universalist Congregation of Marin 240 Channing Way San Rafael CA 94903;X-APPLE-RADIUS=500;X-TITLE=240 Channing Way\, San Rafael\, CA 94903:geo:-122.5371218,38.0077558
END:VEVENT
END:VCALENDAR