BEGIN:VCALENDAR
VERSION:2.0
PRODID:-//North Bay Country Dance Society - ECPv5.0.3.1//NONSGML v1.0//EN
CALSCALE:GREGORIAN
METHOD:PUBLISH
X-WR-CALNAME:North Bay Country Dance Society
X-ORIGINAL-URL:https://nbcds.org
X-WR-CALDESC:Events for North Bay Country Dance Society
BEGIN:VTIMEZONE
TZID:America/Los_Angeles
BEGIN:DAYLIGHT
TZOFFSETFROM:-0800
TZOFFSETTO:-0700
TZNAME:PDT
DTSTART:20200308T100000
END:DAYLIGHT
BEGIN:STANDARD
TZOFFSETFROM:-0700
TZOFFSETTO:-0800
TZNAME:PST
DTSTART:20201101T090000
END:STANDARD
END:VTIMEZONE
BEGIN:VEVENT
DTSTART;TZID=America/Los_Angeles:20200111T190000
DTEND;TZID=America/Los_Angeles:20200111T220000
DTSTAMP:20260425T105612
CREATED:20191229T212611Z
LAST-MODIFIED:20191229T213053Z
UID:4434-1578769200-1578780000@nbcds.org
SUMMARY:San Rafael Contra Dance
DESCRIPTION:Caller: Claire Takemori\n\nBand: Rodney Miller\, fiddle and Rebecca King\, piano\n\nSound: Marty Brenneis; Manager: Jen Bamesberger Beginners’ lesson at 6:30pm\n\nPrices: $10 NBCDS/CDSS-affiliate members; $12 non-members; $5 under 30\, FT students w/ID\, and financial hardship; $2 ages 6-17.\n\nWe are a scent free community as some of us are allergic. Please bring a snack to share if you can.\n
URL:https://nbcds.org/event/san-rafael-contra-dance-22/
LOCATION:Unitarian Universalist Congregation of Marin\, 240 Channing Way\, San Rafael\, CA 94903
CATEGORIES:Contra Dances
GEO:38.0077558;-122.5371218
X-APPLE-STRUCTURED-LOCATION;VALUE=URI;X-ADDRESS=Unitarian Universalist Congregation of Marin 240 Channing Way San Rafael CA 94903;X-APPLE-RADIUS=500;X-TITLE=240 Channing Way\, San Rafael\, CA 94903:geo:-122.5371218,38.0077558
END:VEVENT
END:VCALENDAR