BEGIN:VCALENDAR
VERSION:2.0
PRODID:-//North Bay Country Dance Society - ECPv5.0.3.1//NONSGML v1.0//EN
CALSCALE:GREGORIAN
METHOD:PUBLISH
X-WR-CALNAME:North Bay Country Dance Society
X-ORIGINAL-URL:https://nbcds.org
X-WR-CALDESC:Events for North Bay Country Dance Society
BEGIN:VTIMEZONE
TZID:America/Los_Angeles
BEGIN:DAYLIGHT
TZOFFSETFROM:-0800
TZOFFSETTO:-0700
TZNAME:PDT
DTSTART:20170312T100000
END:DAYLIGHT
BEGIN:STANDARD
TZOFFSETFROM:-0700
TZOFFSETTO:-0800
TZNAME:PST
DTSTART:20171105T090000
END:STANDARD
END:VTIMEZONE
BEGIN:VEVENT
DTSTART;TZID=America/Los_Angeles:20171111T200000
DTEND;TZID=America/Los_Angeles:20171111T230000
DTSTAMP:20260423T220549
CREATED:20170828T223004Z
LAST-MODIFIED:20171107T152158Z
UID:1355-1510430400-1510441200@nbcds.org
SUMMARY:San Rafael Contra Dance
DESCRIPTION:Caller: Erik Hoffman \nBand: Stringfire Erik Levins (bass)\, Patti Cobb (piano)\, Shira Kammen (fiddle) \nSOUND: Marty Brenneis \nManagers: Susan Charlton and David \nBeginner’s Lesson at 7:30pm \nPrices: $10 NBCDS/CDSS-affiliate members; $12 non-members; $5 under 30\, FT students w/ID\, and financial hardship; $2 ages 6-17 \nBring snacks to share if you can\, but leave your scents at home. Some of us are allergic. \n
URL:https://nbcds.org/event/san-rafael-contra-dance-11/
LOCATION:St. John’s Episcopal Church\, Petaluma\, 530 C Street\, Petaluma\, CA\, 94952\, United States
CATEGORIES:Contra Dances
GEO:38.007923;-122.536809
X-APPLE-STRUCTURED-LOCATION;VALUE=URI;X-ADDRESS=St. John’s Episcopal Church Petaluma 530 C Street Petaluma CA 94952 United States;X-APPLE-RADIUS=500;X-TITLE=530 C Street:geo:-122.536809,38.007923
END:VEVENT
END:VCALENDAR