BEGIN:VCALENDAR
VERSION:2.0
PRODID:-//North Bay Country Dance Society - ECPv5.0.3.1//NONSGML v1.0//EN
CALSCALE:GREGORIAN
METHOD:PUBLISH
X-WR-CALNAME:North Bay Country Dance Society
X-ORIGINAL-URL:https://nbcds.org
X-WR-CALDESC:Events for North Bay Country Dance Society
BEGIN:VTIMEZONE
TZID:America/Los_Angeles
BEGIN:DAYLIGHT
TZOFFSETFROM:-0800
TZOFFSETTO:-0700
TZNAME:PDT
DTSTART:20230312T100000
END:DAYLIGHT
BEGIN:STANDARD
TZOFFSETFROM:-0700
TZOFFSETTO:-0800
TZNAME:PST
DTSTART:20231105T090000
END:STANDARD
END:VTIMEZONE
BEGIN:VEVENT
DTSTART;TZID=America/Los_Angeles:20230513T190000
DTEND;TZID=America/Los_Angeles:20230513T220000
DTSTAMP:20260422T014428
CREATED:20221211T175350Z
LAST-MODIFIED:20230513T002242Z
UID:7750-1684004400-1684015200@nbcds.org
SUMMARY:San Rafael Contra
DESCRIPTION:Caller: Kelsey Hartman using Larks and Robins terms\nBand: Green Gates: Roxanne Oliva (accordion/flute)\, Jon Berger (fiddle)\, and Todd Silverstein (bouzouki/pennywhistle/sax)\nSound: Vince Lucchesi \nCOVID-19 Protocol: CDC Community Level is green for Marin as of 5/10/23\, so MASKS are OPTIONAL.  This will be updated on Thursday evening 5/11.  Vax and booster strongly recommended but not required. \n
URL:https://nbcds.org/event/san-rafael-contra-3-2023-04-08-2023-05-13/
LOCATION:Unitarian Universalist Congregation of Marin\, 240 Channing Way\, San Rafael\, CA 94903
CATEGORIES:Contra Dances
GEO:38.0077558;-122.5371218
X-APPLE-STRUCTURED-LOCATION;VALUE=URI;X-ADDRESS=Unitarian Universalist Congregation of Marin 240 Channing Way San Rafael CA 94903;X-APPLE-RADIUS=500;X-TITLE=240 Channing Way\, San Rafael\, CA 94903:geo:-122.5371218,38.0077558
END:VEVENT
END:VCALENDAR