BEGIN:VCALENDAR
VERSION:2.0
PRODID:-//North Bay Country Dance Society - ECPv5.0.3.1//NONSGML v1.0//EN
CALSCALE:GREGORIAN
METHOD:PUBLISH
X-WR-CALNAME:North Bay Country Dance Society
X-ORIGINAL-URL:https://nbcds.org
X-WR-CALDESC:Events for North Bay Country Dance Society
BEGIN:VTIMEZONE
TZID:America/Los_Angeles
BEGIN:DAYLIGHT
TZOFFSETFROM:-0800
TZOFFSETTO:-0700
TZNAME:PDT
DTSTART:20230312T100000
END:DAYLIGHT
BEGIN:STANDARD
TZOFFSETFROM:-0700
TZOFFSETTO:-0800
TZNAME:PST
DTSTART:20231105T090000
END:STANDARD
END:VTIMEZONE
BEGIN:VEVENT
DTSTART;TZID=America/Los_Angeles:20230311T190000
DTEND;TZID=America/Los_Angeles:20230311T220000
DTSTAMP:20260422T044314
CREATED:20221211T175350Z
LAST-MODIFIED:20230307T013825Z
UID:7748-1678561200-1678572000@nbcds.org
SUMMARY:San Rafael Contra
DESCRIPTION:\nCaller: Dane Wallinga (using Larks & Robins terms)\nBand: Rodney Miller (fiddle) & Rebecca King (piano)\nSound: Marty Brenneis\nNewcomers’ orientation at 6:30; dance starts at 7pm. \n\nNote that NBCDS has recently updated our COVID safety protocol; while we strongly encourage vaccination and boosters\, we no longer require them. We *do* require masks. Masking protocols depend on the current CDC Community Level which is updated weekly on Thursday evenings\, so check the NBCDS COVID safety protocol before heading to the venue. We will have some masks on hand. \nPlease bring your own water bottles. NBCDS events are fragrance-free. \nAdmission: $13 NBCDS/BACDS members; $15 not-yet-members; $8 youth/limited income. Invite your friends: first-time dancers are free! \n\n  \n
URL:https://nbcds.org/event/san-rafael-contra-3-2023-03-11/
LOCATION:Unitarian Universalist Congregation of Marin\, 240 Channing Way\, San Rafael\, CA 94903
CATEGORIES:Contra Dances
GEO:38.0077558;-122.5371218
X-APPLE-STRUCTURED-LOCATION;VALUE=URI;X-ADDRESS=Unitarian Universalist Congregation of Marin 240 Channing Way San Rafael CA 94903;X-APPLE-RADIUS=500;X-TITLE=240 Channing Way\, San Rafael\, CA 94903:geo:-122.5371218,38.0077558
END:VEVENT
END:VCALENDAR