BEGIN:VCALENDAR
VERSION:2.0
PRODID:-//North Bay Country Dance Society - ECPv5.0.3.1//NONSGML v1.0//EN
CALSCALE:GREGORIAN
METHOD:PUBLISH
X-WR-CALNAME:North Bay Country Dance Society
X-ORIGINAL-URL:https://nbcds.org
X-WR-CALDESC:Events for North Bay Country Dance Society
BEGIN:VTIMEZONE
TZID:America/Los_Angeles
BEGIN:DAYLIGHT
TZOFFSETFROM:-0800
TZOFFSETTO:-0700
TZNAME:PDT
DTSTART:20250309T100000
END:DAYLIGHT
BEGIN:STANDARD
TZOFFSETFROM:-0700
TZOFFSETTO:-0800
TZNAME:PST
DTSTART:20251102T090000
END:STANDARD
END:VTIMEZONE
BEGIN:VEVENT
DTSTART;TZID=America/Los_Angeles:20251012T160000
DTEND;TZID=America/Los_Angeles:20251012T190000
DTSTAMP:20260421T101419
CREATED:20250820T213156Z
LAST-MODIFIED:20250930T201223Z
UID:10767-1760284800-1760295600@nbcds.org
SUMMARY:San Rafael Contra
DESCRIPTION:Note the date and time change! Because the Unitarian Universalist Congregation of Marin is celebrating their 75th anniversary on our usual 2nd Saturday evening\, we’ll be having our October contra dance on SUNDAY\, October 12 from 4pm to 7pm.  If you usually dance 2nd Sundays in Hayward\, there’s no dance scheduled due to Harvest Moon. If you’re not heading to Santa Barbara that weekend\, please come join us in Marin! \nPlaying for us will be Ensemble Fallopia (Patti Cobb\, Shira Kammen\, Michelle Masek) with caller Alan Winston using gender-neutral terms. Vince Lucchesi on sound. See you there! \n
URL:https://nbcds.org/event/san-rafael-contra-27/
LOCATION:Unitarian Universalist Congregation of Marin\, 240 Channing Way\, San Rafael\, CA 94903
CATEGORIES:Contra Dances
GEO:38.0077558;-122.5371218
X-APPLE-STRUCTURED-LOCATION;VALUE=URI;X-ADDRESS=Unitarian Universalist Congregation of Marin 240 Channing Way San Rafael CA 94903;X-APPLE-RADIUS=500;X-TITLE=240 Channing Way\, San Rafael\, CA 94903:geo:-122.5371218,38.0077558
END:VEVENT
END:VCALENDAR