BEGIN:VCALENDAR
VERSION:2.0
PRODID:-//North Bay Country Dance Society - ECPv5.0.3.1//NONSGML v1.0//EN
CALSCALE:GREGORIAN
METHOD:PUBLISH
X-WR-CALNAME:North Bay Country Dance Society
X-ORIGINAL-URL:https://nbcds.org
X-WR-CALDESC:Events for North Bay Country Dance Society
BEGIN:VTIMEZONE
TZID:America/Los_Angeles
BEGIN:DAYLIGHT
TZOFFSETFROM:-0800
TZOFFSETTO:-0700
TZNAME:PDT
DTSTART:20250309T100000
END:DAYLIGHT
BEGIN:STANDARD
TZOFFSETFROM:-0700
TZOFFSETTO:-0800
TZNAME:PST
DTSTART:20251102T090000
END:STANDARD
END:VTIMEZONE
BEGIN:VEVENT
DTSTART;TZID=America/Los_Angeles:20250712T190000
DTEND;TZID=America/Los_Angeles:20250712T220000
DTSTAMP:20260421T102832
CREATED:20250518T035121Z
LAST-MODIFIED:20250603T180719Z
UID:10650-1752346800-1752357600@nbcds.org
SUMMARY:San Rafael Contra
DESCRIPTION:High-energy contra with Raven & Goose: Corwin Zekley (fiddle) & Grace Fellows (piano) and calling by Susan Petrick with gender-neutral terms.  Arrive at 6:30 for a newcomers’ orientation — first time contra dancers get in free!  Members $13\, not-yet-members $15; $8 youth and limited income.  See you there! \n \n
URL:https://nbcds.org/event/san-rafael-contra-25/
CATEGORIES:Contra Dances
END:VEVENT
END:VCALENDAR