BEGIN:VCALENDAR
VERSION:2.0
PRODID:-//North Bay Country Dance Society - ECPv5.0.3.1//NONSGML v1.0//EN
CALSCALE:GREGORIAN
METHOD:PUBLISH
X-WR-CALNAME:North Bay Country Dance Society
X-ORIGINAL-URL:https://nbcds.org
X-WR-CALDESC:Events for North Bay Country Dance Society
BEGIN:VTIMEZONE
TZID:America/Los_Angeles
BEGIN:DAYLIGHT
TZOFFSETFROM:-0800
TZOFFSETTO:-0700
TZNAME:PDT
DTSTART:20170312T100000
END:DAYLIGHT
BEGIN:STANDARD
TZOFFSETFROM:-0700
TZOFFSETTO:-0800
TZNAME:PST
DTSTART:20171105T090000
END:STANDARD
END:VTIMEZONE
BEGIN:VEVENT
DTSTART;TZID=America/Los_Angeles:20170205T183000
DTEND;TZID=America/Los_Angeles:20170205T213000
DTSTAMP:20260421T130209
CREATED:20170116T150340Z
LAST-MODIFIED:20170118T053033Z
UID:329-1486319400-1486330200@nbcds.org
SUMMARY:Petaluma Contra Dance
DESCRIPTION:CALLER: Andy Shore \nBand: Triple Play\nBen Schreiber (fiddle)\nChris Knepper (mandolin)\nCharlie Hancock (piano) \nSound: Marty Brenneis \nDance Managers\, Tom Schwartz & Linda Howard \nBeginner’s Lesson at 6:00 \nPrices: $10 NBCDS/CDSS-affiliate members; $12 non-members; $5 U30\, FT students w/ID\, and financial hardship; $2 ages 6-17 \n
URL:https://nbcds.org/event/petaluma-contra-dance/
CATEGORIES:Contra Dances
ORGANIZER;CN="Craig%20Meltzner":MAILTO:craig@nbcds.org
END:VEVENT
END:VCALENDAR