BEGIN:VCALENDAR
VERSION:2.0
PRODID:-//North Bay Country Dance Society - ECPv5.0.3.1//NONSGML v1.0//EN
CALSCALE:GREGORIAN
METHOD:PUBLISH
X-WR-CALNAME:North Bay Country Dance Society
X-ORIGINAL-URL:https://nbcds.org
X-WR-CALDESC:Events for North Bay Country Dance Society
BEGIN:VTIMEZONE
TZID:America/Los_Angeles
BEGIN:DAYLIGHT
TZOFFSETFROM:-0800
TZOFFSETTO:-0700
TZNAME:PDT
DTSTART:20230312T100000
END:DAYLIGHT
BEGIN:STANDARD
TZOFFSETFROM:-0700
TZOFFSETTO:-0800
TZNAME:PST
DTSTART:20231105T090000
END:STANDARD
END:VTIMEZONE
BEGIN:VEVENT
DTSTART;TZID=America/Los_Angeles:20230604T183000
DTEND;TZID=America/Los_Angeles:20230604T213000
DTSTAMP:20260420T120451
CREATED:20230326T155159Z
LAST-MODIFIED:20230412T034335Z
UID:8172-1685903400-1685914200@nbcds.org
SUMMARY:Petaluma Contra
DESCRIPTION: \nOur talent from the Mad Robin Ball will switch gears from ECD to contra tunes.  Come dance to Chip Prince (piano) and twin fiddles Michelle O’Connor & Jon Berger\nCaller: Susan Petrick\nSound: Ray Grott\nCram Hall @ St John’s Episcopal\, 40 5th St | Petaluma\n6:30-9:30pm \n
URL:https://nbcds.org/event/petaluma-contra-7/
LOCATION:St. John’s Episcopal Church – Petaluma\, 530 C Street\, Petaluma\, 94952\, United States
CATEGORIES:Contra Dances
ORGANIZER;CN="Chris%20Stadick":MAILTO:chrisstadick@gmail.com
GEO:38.231247;-122.6393062
X-APPLE-STRUCTURED-LOCATION;VALUE=URI;X-ADDRESS=St. John’s Episcopal Church – Petaluma 530 C Street Petaluma 94952 United States;X-APPLE-RADIUS=500;X-TITLE=530 C Street:geo:-122.6393062,38.231247
END:VEVENT
END:VCALENDAR