BEGIN:VCALENDAR
VERSION:2.0
PRODID:-//North Bay Country Dance Society - ECPv5.0.3.1//NONSGML v1.0//EN
CALSCALE:GREGORIAN
METHOD:PUBLISH
X-WR-CALNAME:North Bay Country Dance Society
X-ORIGINAL-URL:https://nbcds.org
X-WR-CALDESC:Events for North Bay Country Dance Society
BEGIN:VTIMEZONE
TZID:America/Los_Angeles
BEGIN:DAYLIGHT
TZOFFSETFROM:-0800
TZOFFSETTO:-0700
TZNAME:PDT
DTSTART:20180311T100000
END:DAYLIGHT
BEGIN:STANDARD
TZOFFSETFROM:-0700
TZOFFSETTO:-0800
TZNAME:PST
DTSTART:20181104T090000
END:STANDARD
END:VTIMEZONE
BEGIN:VEVENT
DTSTART;TZID=America/Los_Angeles:20180401T000000
DTEND;TZID=America/Los_Angeles:20180401T000000
DTSTAMP:20260425T180929
CREATED:20180204T203136Z
LAST-MODIFIED:20180207T231500Z
UID:2071-1522540800-1522540800@nbcds.org
SUMMARY:NO PETALUMA CONTRA. Go to the Aftershock dance in Mill Valley next Sunday night\, April 8th
DESCRIPTION:
URL:https://nbcds.org/event/no-petaluma-contra/
END:VEVENT
END:VCALENDAR