BEGIN:VCALENDAR
VERSION:2.0
PRODID:-//North Bay Country Dance Society - ECPv5.0.3.1//NONSGML v1.0//EN
CALSCALE:GREGORIAN
METHOD:PUBLISH
X-WR-CALNAME:North Bay Country Dance Society
X-ORIGINAL-URL:https://nbcds.org
X-WR-CALDESC:Events for North Bay Country Dance Society
BEGIN:VTIMEZONE
TZID:America/Los_Angeles
BEGIN:DAYLIGHT
TZOFFSETFROM:-0800
TZOFFSETTO:-0700
TZNAME:PDT
DTSTART:20230312T100000
END:DAYLIGHT
BEGIN:STANDARD
TZOFFSETFROM:-0700
TZOFFSETTO:-0800
TZNAME:PST
DTSTART:20231105T090000
END:STANDARD
END:VTIMEZONE
BEGIN:VEVENT
DTSTART;TZID=America/Los_Angeles:20230402T080000
DTEND;TZID=America/Los_Angeles:20230402T170000
DTSTAMP:20260422T081202
CREATED:20230104T231327Z
LAST-MODIFIED:20230104T231417Z
UID:7880-1680422400-1680454800@nbcds.org
SUMMARY:NO PETALUMA CONTRA
DESCRIPTION:
URL:https://nbcds.org/event/no-petaluma-contra-april-2nd-go-to-epicenter/
END:VEVENT
END:VCALENDAR