BEGIN:VCALENDAR
VERSION:2.0
PRODID:-//North Bay Country Dance Society - ECPv5.0.3.1//NONSGML v1.0//EN
CALSCALE:GREGORIAN
METHOD:PUBLISH
X-WR-CALNAME:North Bay Country Dance Society
X-ORIGINAL-URL:https://nbcds.org
X-WR-CALDESC:Events for North Bay Country Dance Society
BEGIN:VTIMEZONE
TZID:America/Los_Angeles
BEGIN:DAYLIGHT
TZOFFSETFROM:-0800
TZOFFSETTO:-0700
TZNAME:PDT
DTSTART:20160313T100000
END:DAYLIGHT
BEGIN:STANDARD
TZOFFSETFROM:-0700
TZOFFSETTO:-0800
TZNAME:PST
DTSTART:20161106T090000
END:STANDARD
END:VTIMEZONE
BEGIN:VEVENT
DTSTART;TZID=America/Los_Angeles:20161208T190000
DTEND;TZID=America/Los_Angeles:20161208T203000
DTSTAMP:20260421T130355
CREATED:20161128T193228Z
LAST-MODIFIED:20161128T193414Z
UID:121-1481223600-1481229000@nbcds.org
SUMMARY:Napa English Country Dance
DESCRIPTION:Beginning English Country Dance. Learn or practice the basics with simple dances to recorded music in a friendly group. New and experienced dancers welcome. \n
URL:https://nbcds.org/event/napa-english-country-dance-3/
LOCATION:Arthur Murray Dance Studio\, 1500 Jefferson Street\, Napa\, CA\, 94559\, United States
CATEGORIES:English Country Dance
GEO:38.3012209;-122.2929384
X-APPLE-STRUCTURED-LOCATION;VALUE=URI;X-ADDRESS=Arthur Murray Dance Studio 1500 Jefferson Street Napa CA 94559 United States;X-APPLE-RADIUS=500;X-TITLE=1500 Jefferson Street:geo:-122.2929384,38.3012209
END:VEVENT
END:VCALENDAR