BEGIN:VCALENDAR
VERSION:2.0
PRODID:-//North Bay Country Dance Society - ECPv5.0.3.1//NONSGML v1.0//EN
CALSCALE:GREGORIAN
METHOD:PUBLISH
X-WR-CALNAME:North Bay Country Dance Society
X-ORIGINAL-URL:https://nbcds.org
X-WR-CALDESC:Events for North Bay Country Dance Society
BEGIN:VTIMEZONE
TZID:America/Los_Angeles
BEGIN:DAYLIGHT
TZOFFSETFROM:-0800
TZOFFSETTO:-0700
TZNAME:PDT
DTSTART:20220313T100000
END:DAYLIGHT
BEGIN:STANDARD
TZOFFSETFROM:-0700
TZOFFSETTO:-0800
TZNAME:PST
DTSTART:20221106T090000
END:STANDARD
END:VTIMEZONE
BEGIN:VEVENT
DTSTART;TZID=America/Los_Angeles:20220724T140000
DTEND;TZID=America/Los_Angeles:20220724T160000
DTSTAMP:20260422T215045
CREATED:20220621T194745Z
LAST-MODIFIED:20220621T200245Z
UID:6955-1658671200-1658678400@nbcds.org
SUMMARY:Napa ECD
DESCRIPTION:
URL:https://nbcds.org/event/napa-ecd-2022-08-07/
LOCATION:Napa Senior Activity Center\, 1500 Jefferson St.\, Napa\, CA\, 94558\, United States
CATEGORIES:English Country Dance
GEO:38.301518;-122.292813
X-APPLE-STRUCTURED-LOCATION;VALUE=URI;X-ADDRESS=Napa Senior Activity Center 1500 Jefferson St. Napa CA 94558 United States;X-APPLE-RADIUS=500;X-TITLE=1500 Jefferson St.:geo:-122.292813,38.301518
END:VEVENT
END:VCALENDAR