BEGIN:VCALENDAR
VERSION:2.0
PRODID:-//North Bay Country Dance Society - ECPv5.0.3.1//NONSGML v1.0//EN
CALSCALE:GREGORIAN
METHOD:PUBLISH
X-WR-CALNAME:North Bay Country Dance Society
X-ORIGINAL-URL:https://nbcds.org
X-WR-CALDESC:Events for North Bay Country Dance Society
BEGIN:VTIMEZONE
TZID:America/Los_Angeles
BEGIN:DAYLIGHT
TZOFFSETFROM:-0800
TZOFFSETTO:-0700
TZNAME:PDT
DTSTART:20240310T100000
END:DAYLIGHT
BEGIN:STANDARD
TZOFFSETFROM:-0700
TZOFFSETTO:-0800
TZNAME:PST
DTSTART:20241103T090000
END:STANDARD
END:VTIMEZONE
BEGIN:VEVENT
DTSTART;TZID=America/Los_Angeles:20240501T053000
DTEND;TZID=America/Los_Angeles:20240501T070000
DTSTAMP:20260421T103055
CREATED:20240420T160313Z
LAST-MODIFIED:20240420T160313Z
UID:9460-1714541400-1714546800@nbcds.org
SUMMARY:Morris May Day Sunrise
DESCRIPTION:\nAPPLE TREE MORRIS WELCOMES THE SUN\nCome join us for our May Day celebration\, early Wednesday morning May 1st\, 2024!\nWe dance the sun up\, so arrive at 5:30am or so behind the Sebastopol Community Center Youth Annex] on Morris St.\, next to Wischemann Hall.* Apple Tree Morris will be dancing about a dozen traditional Morris dances* Kalia Kliban will be leading three community dances* Cyprian Stevens will be leading three sing-along May Day community songs\nWe are also performing at Community Market in Sebastopol around 2pm on Saturday May 4th. See you there!\n
URL:https://nbcds.org/event/morris-may-day-sunrise/
LOCATION:Sebastopol Community Center Youth Annex\, 425 Morris St.\, Sebastopol\, CA\, 95472\, United States
CATEGORIES:Morris Dance
ORGANIZER;CN="Linton%20Hale":MAILTO:info@appletreemorris.org
GEO:38.4087979;-122.820328
X-APPLE-STRUCTURED-LOCATION;VALUE=URI;X-ADDRESS=Sebastopol Community Center Youth Annex 425 Morris St. Sebastopol CA 95472 United States;X-APPLE-RADIUS=500;X-TITLE=425 Morris St.:geo:-122.820328,38.4087979
END:VEVENT
END:VCALENDAR