BEGIN:VCALENDAR
VERSION:2.0
PRODID:-//North Bay Country Dance Society - ECPv5.0.3.1//NONSGML v1.0//EN
CALSCALE:GREGORIAN
METHOD:PUBLISH
X-WR-CALNAME:North Bay Country Dance Society
X-ORIGINAL-URL:https://nbcds.org
X-WR-CALDESC:Events for North Bay Country Dance Society
BEGIN:VTIMEZONE
TZID:America/Los_Angeles
BEGIN:DAYLIGHT
TZOFFSETFROM:-0800
TZOFFSETTO:-0700
TZNAME:PDT
DTSTART:20250309T100000
END:DAYLIGHT
BEGIN:STANDARD
TZOFFSETFROM:-0700
TZOFFSETTO:-0800
TZNAME:PST
DTSTART:20251102T090000
END:STANDARD
END:VTIMEZONE
BEGIN:VEVENT
DTSTART;TZID=America/Los_Angeles:20251108T140000
DTEND;TZID=America/Los_Angeles:20251108T163000
DTSTAMP:20260421T101626
CREATED:20250527T141616Z
LAST-MODIFIED:20251012T184331Z
UID:10682-1762610400-1762619400@nbcds.org
SUMMARY:Marin English Country Dance
DESCRIPTION:Admission: $15 \nCaller: Gary Thomas \nMusicians: Rebecca King\, Jon Berger\, Robin Lockner \nBeginners: Beginners are welcome. No experience or partner necessary. Come to the beginners lesson at 1:45. \nParking: The best place to park is the large\, dirt parking area to the left as  you turn onto Almonte Avenue. Please do not park on Wisteria Way or Lavender Lane. The few parking spaces beside the hall are reserved for the caller\, musicians and dance manager. Thank you! \nContributions of finger-food type snacks are appreciated\, if you feel inclined. Bring a water bottle for yourself. \nThe dance is mask optional\, but please remember that if you are not feeling well\, even if you believe it is just a cold\, please take care of yourself and stay home. We want to see you but want to make sure we minimize risks to other dancers.  Attending also requires you to sign in with your name and contact information and agree to notify the NBCDS if you develop Covid within a week of attending the dance.  This is also a fragrance-free event for the health of all our dancers. \nDance Managers: Maggie Moore and Cynthia Holden \nSeries Programmer: Maggie Moore \n  \n
URL:https://nbcds.org/event/marin-english-country-dance-6/
LOCATION:Almonte Club House\, 105 Wisteria Way\, Mill Valley\, CA\, 94941\, United States
CATEGORIES:English Country Dance
GEO:37.8874967;-122.5268688
X-APPLE-STRUCTURED-LOCATION;VALUE=URI;X-ADDRESS=Almonte Club House 105 Wisteria Way Mill Valley CA 94941 United States;X-APPLE-RADIUS=500;X-TITLE=105 Wisteria Way:geo:-122.5268688,37.8874967
END:VEVENT
END:VCALENDAR