BEGIN:VCALENDAR
VERSION:2.0
PRODID:-//North Bay Country Dance Society - ECPv5.0.3.1//NONSGML v1.0//EN
CALSCALE:GREGORIAN
METHOD:PUBLISH
X-WR-CALNAME:North Bay Country Dance Society
X-ORIGINAL-URL:https://nbcds.org
X-WR-CALDESC:Events for North Bay Country Dance Society
BEGIN:VTIMEZONE
TZID:America/Los_Angeles
BEGIN:DAYLIGHT
TZOFFSETFROM:-0800
TZOFFSETTO:-0700
TZNAME:PDT
DTSTART:20220313T100000
END:DAYLIGHT
BEGIN:STANDARD
TZOFFSETFROM:-0700
TZOFFSETTO:-0800
TZNAME:PST
DTSTART:20221106T090000
END:STANDARD
END:VTIMEZONE
BEGIN:VEVENT
DTSTART;TZID=America/Los_Angeles:20220703T183000
DTEND;TZID=America/Los_Angeles:20220703T210000
DTSTAMP:20260423T041419
CREATED:20220520T002554Z
LAST-MODIFIED:20220701T180201Z
UID:6749-1656873000-1656882000@nbcds.org
SUMMARY:JULY 3RD PETALUMA CONTRA
DESCRIPTION:Band: Will Wheeler\, guitar & foot percussion\, Anne Goess\, fiddle\, Charlie Hancock\, accordion \nCaller: Susan Petrick \nSound: Ray Grott \nCram Hall is at St. John’s Episcopal and is located at 530 C Street between Fifth and Sixth Streets in Petaluma. Parking lot adjacent to the Hall at the corner of C and Sixth. \nThe dance will be from 6:30 – 9:00 p.m. \nAdmission: $13 NBCDS/BACDS members; $15 non-members; or $8 limited income \nCovid precautions depend on the weekly CDC Community Level.  As of the weekly update on Thursday\, June 30\, we are currently we are at the High/Red level and require dancers to be fully-vaccinated\, including booster\, wear an N-95/KF-94 level mask\, and provide proof of a negative Covid rapid test taken within 6 hours of the start of the dance. We have tests available at the venue; arrive 20 minutes early if you need to use one of ours. Please bring your own water bottles. There will be no food served in the Hall. \n\n
URL:https://nbcds.org/event/july-3rd-petaluma-contra/
LOCATION:St. John’s Episcopal Church – Petaluma\, 530 C Street\, Petaluma\, 94952\, United States
CATEGORIES:Contra Dances
GEO:38.231247;-122.6393062
X-APPLE-STRUCTURED-LOCATION;VALUE=URI;X-ADDRESS=St. John’s Episcopal Church – Petaluma 530 C Street Petaluma 94952 United States;X-APPLE-RADIUS=500;X-TITLE=530 C Street:geo:-122.6393062,38.231247
END:VEVENT
END:VCALENDAR