BEGIN:VCALENDAR
VERSION:2.0
PRODID:-//North Bay Country Dance Society - ECPv5.0.3.1//NONSGML v1.0//EN
CALSCALE:GREGORIAN
METHOD:PUBLISH
X-WR-CALNAME:North Bay Country Dance Society
X-ORIGINAL-URL:https://nbcds.org
X-WR-CALDESC:Events for North Bay Country Dance Society
BEGIN:VTIMEZONE
TZID:America/Los_Angeles
BEGIN:DAYLIGHT
TZOFFSETFROM:-0800
TZOFFSETTO:-0700
TZNAME:PDT
DTSTART:20170312T100000
END:DAYLIGHT
BEGIN:STANDARD
TZOFFSETFROM:-0700
TZOFFSETTO:-0800
TZNAME:PST
DTSTART:20171105T090000
END:STANDARD
END:VTIMEZONE
BEGIN:VEVENT
DTSTART;TZID=America/Los_Angeles:20171104T140000
DTEND;TZID=America/Los_Angeles:20171104T160000
DTSTAMP:20260423T175718
CREATED:20171017T220133Z
LAST-MODIFIED:20171023T203130Z
UID:1508-1509804000-1509811200@nbcds.org
SUMMARY:Family Dance with Sebastopol Charter School
DESCRIPTION:Sebastopol Charter School and NBCDS invite everyone to this community dance! \nMike Fynan is calling with live music by Plaid Menagerie. \n2-4 pm. $5/person $10-$40/family profits go to Redwood Credit Union Fire Relief Fund for people affected by the wildfires. \n \n
URL:https://nbcds.org/event/family-dance-with-sebastopol-charter-school/
LOCATION:Wischemann Hall\, 465 Morris St.\, Sebastopol\, CA\, United States
CATEGORIES:Contra Dances
GEO:38.4086229;-122.8208861
X-APPLE-STRUCTURED-LOCATION;VALUE=URI;X-ADDRESS=Wischemann Hall 465 Morris St. Sebastopol CA United States;X-APPLE-RADIUS=500;X-TITLE=465 Morris St.:geo:-122.8208861,38.4086229
END:VEVENT
END:VCALENDAR