BEGIN:VCALENDAR
VERSION:2.0
PRODID:-//North Bay Country Dance Society - ECPv5.0.3.1//NONSGML v1.0//EN
CALSCALE:GREGORIAN
METHOD:PUBLISH
X-WR-CALNAME:North Bay Country Dance Society
X-ORIGINAL-URL:https://nbcds.org
X-WR-CALDESC:Events for North Bay Country Dance Society
BEGIN:VTIMEZONE
TZID:America/Los_Angeles
BEGIN:DAYLIGHT
TZOFFSETFROM:-0800
TZOFFSETTO:-0700
TZNAME:PDT
DTSTART:20160313T100000
END:DAYLIGHT
BEGIN:STANDARD
TZOFFSETFROM:-0700
TZOFFSETTO:-0800
TZNAME:PST
DTSTART:20161106T090000
END:STANDARD
END:VTIMEZONE
BEGIN:VEVENT
DTSTART;TZID=America/Los_Angeles:20161126T200000
DTEND;TZID=America/Los_Angeles:20161126T230000
DTSTAMP:20260421T142114
CREATED:20161114T222129Z
LAST-MODIFIED:20170118T051103Z
UID:91-1480190400-1480201200@nbcds.org
SUMMARY:Sebastopol Contra Dance
DESCRIPTION:Caller: Ric Goldman \nContra Music: Jonathan Goodwin (of Soul Weaving)\, who will play fiddle and soprano banjo\, while accompanying his own looped back music he just played\, and with other instrumentation\, including percussion. \nBeginner’s Lesson:\n7:30-ish \n$10 for members; $12 for non-members; $7 for adults under 30\, FT students and any folks who need a break due to financial concerns; $2 for under 18’s; free for kids 6 and under. \nDance Manager: Laura Tighe\nSound: Gary Timmons \nDirections\nFrom Rt. 101 in Santa Rosa\, just get yourself on highway 12 headed west toward Sebastopol\, and turn right at the first light after you cross the bridge over the Laguna. That’s Morris St. If you go farther one block you get into town. Wischemann Hall is at the end of Morris St.\, where it starts curving to the left. \n
URL:https://nbcds.org/event/contra-dance-sebastopol/
LOCATION:Wischemann Hall\, 465 Morris St.\, Sebastopol\, CA\, United States
CATEGORIES:Contra Dances
GEO:38.4086229;-122.8208861
X-APPLE-STRUCTURED-LOCATION;VALUE=URI;X-ADDRESS=Wischemann Hall 465 Morris St. Sebastopol CA United States;X-APPLE-RADIUS=500;X-TITLE=465 Morris St.:geo:-122.8208861,38.4086229
END:VEVENT
END:VCALENDAR