BEGIN:VCALENDAR
VERSION:2.0
PRODID:-//North Bay Country Dance Society - ECPv5.0.3.1//NONSGML v1.0//EN
CALSCALE:GREGORIAN
METHOD:PUBLISH
X-WR-CALNAME:North Bay Country Dance Society
X-ORIGINAL-URL:https://nbcds.org
X-WR-CALDESC:Events for North Bay Country Dance Society
BEGIN:VTIMEZONE
TZID:America/Los_Angeles
BEGIN:DAYLIGHT
TZOFFSETFROM:-0800
TZOFFSETTO:-0700
TZNAME:PDT
DTSTART:20160313T100000
END:DAYLIGHT
BEGIN:STANDARD
TZOFFSETFROM:-0700
TZOFFSETTO:-0800
TZNAME:PST
DTSTART:20161106T090000
END:STANDARD
END:VTIMEZONE
BEGIN:VEVENT
DTSTART;VALUE=DATE:20161224
DTEND;VALUE=DATE:20161225
DTSTAMP:20260421T130637
CREATED:20161216T185644Z
LAST-MODIFIED:20170118T050512Z
UID:162-1482537600-1482623999@nbcds.org
SUMMARY:Sebastopol Contra Dance—NO DANCE due to HOLIDAYS
DESCRIPTION:No Dance — Happy Holidays! \n
URL:https://nbcds.org/event/contra-dance-sebastopol-no-dance-due-to-holidays/
CATEGORIES:Contra Dances
END:VEVENT
END:VCALENDAR