BEGIN:VCALENDAR
VERSION:2.0
PRODID:-//North Bay Country Dance Society - ECPv5.0.3.1//NONSGML v1.0//EN
CALSCALE:GREGORIAN
METHOD:PUBLISH
X-WR-CALNAME:North Bay Country Dance Society
X-ORIGINAL-URL:https://nbcds.org
X-WR-CALDESC:Events for North Bay Country Dance Society
BEGIN:VTIMEZONE
TZID:America/Los_Angeles
BEGIN:DAYLIGHT
TZOFFSETFROM:-0800
TZOFFSETTO:-0700
TZNAME:PDT
DTSTART:20170312T100000
END:DAYLIGHT
BEGIN:STANDARD
TZOFFSETFROM:-0700
TZOFFSETTO:-0800
TZNAME:PST
DTSTART:20171105T090000
END:STANDARD
END:VTIMEZONE
BEGIN:VEVENT
DTSTART;TZID=America/Los_Angeles:20170225T200000
DTEND;TZID=America/Los_Angeles:20170225T223000
DTSTAMP:20260421T101513
CREATED:20170116T153428Z
LAST-MODIFIED:20170118T055634Z
UID:340-1488052800-1488061800@nbcds.org
SUMMARY:Sebastopol Contra Dance
DESCRIPTION:Caller: Celia Ramsay \nBand: Whimsical\nJanette Duncan (fiddle)\nRegan Hemphill (fiddle)\nRoxanne Oliva (accordion)\nBeth Christian (cello)\nDebra Tayleur (piano) \nBeginner’s Lesson:\n7:30-ish \n$10 for members; $12 for non-members; $7 for adults under 30\, FT students and any folks who need a break due to financial concerns; $2 for under 18’s; free for kids 6 and under. \nDance Manager: Laura Tighe \n
URL:https://nbcds.org/event/contra-dance-sebastopol-2/
LOCATION:Wischemann Hall\, 465 Morris St.\, Sebastopol\, CA\, United States
CATEGORIES:Contra Dances
GEO:38.4086229;-122.8208861
X-APPLE-STRUCTURED-LOCATION;VALUE=URI;X-ADDRESS=Wischemann Hall 465 Morris St. Sebastopol CA United States;X-APPLE-RADIUS=500;X-TITLE=465 Morris St.:geo:-122.8208861,38.4086229
END:VEVENT
END:VCALENDAR