BEGIN:VCALENDAR
VERSION:2.0
PRODID:-//North Bay Country Dance Society - ECPv5.0.3.1//NONSGML v1.0//EN
CALSCALE:GREGORIAN
METHOD:PUBLISH
X-WR-CALNAME:North Bay Country Dance Society
X-ORIGINAL-URL:https://nbcds.org
X-WR-CALDESC:Events for North Bay Country Dance Society
BEGIN:VTIMEZONE
TZID:America/Los_Angeles
BEGIN:DAYLIGHT
TZOFFSETFROM:-0800
TZOFFSETTO:-0700
TZNAME:PDT
DTSTART:20170312T100000
END:DAYLIGHT
BEGIN:STANDARD
TZOFFSETFROM:-0700
TZOFFSETTO:-0800
TZNAME:PST
DTSTART:20171105T090000
END:STANDARD
END:VTIMEZONE
BEGIN:VEVENT
DTSTART;TZID=America/Los_Angeles:20170120T200000
DTEND;TZID=America/Los_Angeles:20170120T230000
DTSTAMP:20260421T114743
CREATED:20170110T230106Z
LAST-MODIFIED:20170118T052229Z
UID:274-1484942400-1484953200@nbcds.org
SUMMARY:Santa Rosa Contra Dance
DESCRIPTION:Caller: Kalia Kliban \nBand: The Swinging Chickens\nLee Anne Welch (fiddle)\nRebecca King (piano)\nTopher Gayle (guitar\, mandolin\, percussion) \nSound: Carlo Calabi \nDance Manager: Marlene Mahan \nBeginners Lesson: 7:30PM \nPrices: $10 NBCDS/CDSS-affiliate members; $12 non-members; $5 U30\, FT students w/ID\, and financial hardship; $2 ages 6-17 \n
URL:https://nbcds.org/event/contra-dance-santa-rosa/
LOCATION:Monroe Hall\, 1400 West College Ave.\, Santa Rosa\, CA\, United States
CATEGORIES:Contra Dances
GEO:38.4448309;-122.7438472
X-APPLE-STRUCTURED-LOCATION;VALUE=URI;X-ADDRESS=Monroe Hall 1400 West College Ave. Santa Rosa CA United States;X-APPLE-RADIUS=500;X-TITLE=1400 West College Ave.:geo:-122.7438472,38.4448309
END:VEVENT
END:VCALENDAR