BEGIN:VCALENDAR
VERSION:2.0
PRODID:-//North Bay Country Dance Society - ECPv5.0.3.1//NONSGML v1.0//EN
CALSCALE:GREGORIAN
METHOD:PUBLISH
X-WR-CALNAME:North Bay Country Dance Society
X-ORIGINAL-URL:https://nbcds.org
X-WR-CALDESC:Events for North Bay Country Dance Society
BEGIN:VTIMEZONE
TZID:America/Los_Angeles
BEGIN:DAYLIGHT
TZOFFSETFROM:-0800
TZOFFSETTO:-0700
TZNAME:PDT
DTSTART:20220313T100000
END:DAYLIGHT
BEGIN:STANDARD
TZOFFSETFROM:-0700
TZOFFSETTO:-0800
TZNAME:PST
DTSTART:20221106T090000
END:STANDARD
END:VTIMEZONE
BEGIN:VEVENT
DTSTART;TZID=America/Los_Angeles:20220716T200000
DTEND;TZID=America/Los_Angeles:20220716T230000
DTSTAMP:20260423T011242
CREATED:20220708T010012Z
LAST-MODIFIED:20220708T182642Z
UID:7033-1658001600-1658012400@nbcds.org
SUMMARY:CANCELED: Santa Rosa Contra
DESCRIPTION:Due to rising rates of the highly-transmissible BA.5 variant of COVID-19 along with the usual drop in summer attendance\, we’ve decided not to hold the July or August contras at Monroe Hall.  We *are* planning to host dances in the Fall–stay tuned! Come to the Sunday\, August 7 contra in Petaluma instead. \n
URL:https://nbcds.org/event/canceled-santa-rosa-contra/
CATEGORIES:Contra Dances
END:VEVENT
END:VCALENDAR